BEGIN:VCALENDAR
VERSION:2.0
PRODID:-//Fullerton College - ECPv6.15.20//NONSGML v1.0//EN
CALSCALE:GREGORIAN
METHOD:PUBLISH
X-WR-CALNAME:Fullerton College
X-ORIGINAL-URL:https://www.fullcoll.edu
X-WR-CALDESC:Events for Fullerton College
REFRESH-INTERVAL;VALUE=DURATION:PT1H
X-Robots-Tag:noindex
X-PUBLISHED-TTL:PT1H
BEGIN:VTIMEZONE
TZID:America/Los_Angeles
BEGIN:DAYLIGHT
TZOFFSETFROM:-0800
TZOFFSETTO:-0700
TZNAME:PDT
DTSTART:20250309T100000
END:DAYLIGHT
BEGIN:STANDARD
TZOFFSETFROM:-0700
TZOFFSETTO:-0800
TZNAME:PST
DTSTART:20251102T090000
END:STANDARD
BEGIN:DAYLIGHT
TZOFFSETFROM:-0800
TZOFFSETTO:-0700
TZNAME:PDT
DTSTART:20260308T100000
END:DAYLIGHT
BEGIN:STANDARD
TZOFFSETFROM:-0700
TZOFFSETTO:-0800
TZNAME:PST
DTSTART:20261101T090000
END:STANDARD
BEGIN:DAYLIGHT
TZOFFSETFROM:-0800
TZOFFSETTO:-0700
TZNAME:PDT
DTSTART:20270314T100000
END:DAYLIGHT
BEGIN:STANDARD
TZOFFSETFROM:-0700
TZOFFSETTO:-0800
TZNAME:PST
DTSTART:20271107T090000
END:STANDARD
END:VTIMEZONE
BEGIN:VEVENT
DTSTART;TZID=America/Los_Angeles:20260421T150000
DTEND;TZID=America/Los_Angeles:20260421T163000
DTSTAMP:20260421T023645
CREATED:20260322T213113Z
LAST-MODIFIED:20260420T180122Z
UID:10007528-1776783600-1776789000@www.fullcoll.edu
SUMMARY:Grads to Be Presents: UndocuAlly Training 1
DESCRIPTION:Join us for one of our upcoming UndocuAlly Training sessions\, designed to strengthen support for undocumented and mixed‑status students. Each session covers immigration basics\, student rights\, campus resources\, and practical allyship strategies. Choose the date that works best for you—both sessions offer the same content and create space for learning\, reflection\, and action. Ideal for faculty\, staff\, and student leaders committed to fostering an inclusive campus environment. \nRegister here: tinyurl.com/SP26UndocuAlly
URL:https://www.fullcoll.edu/event/grads-to-be-presents-undocually-training-1/
LOCATION:Student Support Center Room 205
CATEGORIES:Cultural Events
END:VEVENT
BEGIN:VEVENT
DTSTART;TZID=America/Los_Angeles:20260421T173000
DTEND;TZID=America/Los_Angeles:20260421T183000
DTSTAMP:20260421T023645
CREATED:20260413T160910Z
LAST-MODIFIED:20260413T160910Z
UID:10007989-1776792600-1776796200@www.fullcoll.edu
SUMMARY:Law Day Durable Skills Dinner and Learn
DESCRIPTION:Join Fullerton College Paralegal Studies students\, faculty\, alumni\, and other guests for a celebration of Law Day.  We will host a two-part event dedicated to critical communication skills\, email etiquette\, ethics\, and more. Here is the breakdown of both events (hosted via HyFlex to offer both Zoom and in-person options): \n\nTuesday\, 4/21/26 5:30 – 6:30 p.m. Dinner and Learn:\n\nCovering basics of verbal and written communication skills + professionalism.\nActive listening and capturing relevant/important information\nEmail etiquette\nDinner and beverages provided for in-person attendees!\n\n\n\nTo join us in celebrating Law Day\, grab a free meal\, and get some cool Law Day swag (if attending in-person)\, please complete the sign-up form via the QR code in the flyer embedded or attached below. You can also use the sign-up link directly. if you cannot access the QR code. \nFor Zoom attendees: you must still complete the required form so we can track attendance\, but you can access the Zoom link from this page. Just copy it to your calendar prior to the event to keep it handy.
URL:https://www.fullcoll.edu/event/law-day-durable-skills-dinner-and-learn/
LOCATION:Fullerton College
CATEGORIES:Career Skills
ATTACH;FMTTYPE=image/jpeg:/wp-content/uploads/2026/04/2026-Law-Day-Two-Part-Event-Flyer.jpg
ORGANIZER;CN="Paralegal Studies":MAILTO:mmoore1@fullcoll.edu
END:VEVENT
END:VCALENDAR