BEGIN:VCALENDAR
VERSION:2.0
PRODID:-//Fullerton College - ECPv6.15.20//NONSGML v1.0//EN
CALSCALE:GREGORIAN
METHOD:PUBLISH
X-ORIGINAL-URL:https://www.fullcoll.edu
X-WR-CALDESC:Events for Fullerton College
REFRESH-INTERVAL;VALUE=DURATION:PT1H
X-Robots-Tag:noindex
X-PUBLISHED-TTL:PT1H
BEGIN:VTIMEZONE
TZID:America/Los_Angeles
BEGIN:DAYLIGHT
TZOFFSETFROM:-0800
TZOFFSETTO:-0700
TZNAME:PDT
DTSTART:20250309T100000
END:DAYLIGHT
BEGIN:STANDARD
TZOFFSETFROM:-0700
TZOFFSETTO:-0800
TZNAME:PST
DTSTART:20251102T090000
END:STANDARD
BEGIN:DAYLIGHT
TZOFFSETFROM:-0800
TZOFFSETTO:-0700
TZNAME:PDT
DTSTART:20260308T100000
END:DAYLIGHT
BEGIN:STANDARD
TZOFFSETFROM:-0700
TZOFFSETTO:-0800
TZNAME:PST
DTSTART:20261101T090000
END:STANDARD
BEGIN:DAYLIGHT
TZOFFSETFROM:-0800
TZOFFSETTO:-0700
TZNAME:PDT
DTSTART:20270314T100000
END:DAYLIGHT
BEGIN:STANDARD
TZOFFSETFROM:-0700
TZOFFSETTO:-0800
TZNAME:PST
DTSTART:20271107T090000
END:STANDARD
END:VTIMEZONE
BEGIN:VEVENT
DTSTART;TZID=America/Los_Angeles:20260303T160000
DTEND;TZID=America/Los_Angeles:20260303T173000
DTSTAMP:20260419T094726
CREATED:20260203T230536Z
LAST-MODIFIED:20260203T230536Z
UID:10006215-1772553600-1772559000@www.fullcoll.edu
SUMMARY:AS Student Senate
DESCRIPTION:The Associated Students (A.S.) is the student government at Fullerton College. A.S. represents all FC students in our shared governance model which means that students have a voice on every level\, ranging from campus committees to District work-groups where issues are discussed and policies created. A.S. is also responsible for campus events and partners with different departments and organizations to enhance the student experience at Fullerton College. \nStudent Senate Meetings (Spring 2025 Semester) \n\n🗓️ Every first\, third\, and fifth Tuesday of the month\n⏰ 4:00 PM – 5:30 PM\n📍 Cruz Reynoso Hall (Building 200)\, Second Floor\, Conference Room 224/226/228
URL:https://www.fullcoll.edu/events/as-student-senate/2026-03-03/
LOCATION:Fullerton College
CATEGORIES:Campus Events,General Events
END:VEVENT
BEGIN:VEVENT
DTSTART;TZID=America/Los_Angeles:20260306T100000
DTEND;TZID=America/Los_Angeles:20260306T150000
DTSTAMP:20260419T094726
CREATED:20260220T234811Z
LAST-MODIFIED:20260220T234811Z
UID:10006697-1772791200-1772809200@www.fullcoll.edu
SUMMARY:2026 Annual Women's Caucus
DESCRIPTION:The California Community Colleges Women’s Caucus invites you to our annual celebration of International Women’s Day. Our theme this year is “Celebrating Phenomenal Women.” \nJoin keynote speaker Betty Porto\, of Porto’s Bakery\, distinguished panelists\, and fellow caucus members for an inspirational day. \nThe caucus will honor the recipients of their Rising Star and Legacy awards. \nThis opportunity is for students\, staff and faculty. Registration required.
URL:https://www.fullcoll.edu/events/2026-annual-womens-caucus/
LOCATION:Fullerton College\, Cruz Reynoso Building\, Room 224-228
CATEGORIES:Campus Events
END:VEVENT
BEGIN:VEVENT
DTSTART;TZID=America/Los_Angeles:20260312T120000
DTEND;TZID=America/Los_Angeles:20260312T133000
DTSTAMP:20260419T094726
CREATED:20260311T230400Z
LAST-MODIFIED:20260311T230400Z
UID:10007230-1773316800-1773322200@www.fullcoll.edu
SUMMARY:Sisterhood Circle
DESCRIPTION:Join the Division of Ethnic Studies and Student Equity and Umoja Community Program for an inspiring conversation on Black women’s leadership\, mentorship\, sisterhood and more. \nRefreshments provided.
URL:https://www.fullcoll.edu/events/sisterhood-circle-2/
LOCATION:Fullerton College\, Umoja Village\, Building 1900\, Room 1903-1904
CATEGORIES:Campus Events
END:VEVENT
BEGIN:VEVENT
DTSTART;TZID=America/Los_Angeles:20260313T093000
DTEND;TZID=America/Los_Angeles:20260313T113000
DTSTAMP:20260419T094726
CREATED:20260311T230635Z
LAST-MODIFIED:20260311T230943Z
UID:10007231-1773394200-1773401400@www.fullcoll.edu
SUMMARY:Nuestras Historias "Our Stories"
DESCRIPTION:The Division of Ethnic Studies and Student Equity invites you to a special film screening and panel discussion with three Central American mujer filmmakers from the disapora leaving their mark across the independent film industry. \n\nAlejandra Quiroz\nCatherina Cojulun\nKarina Ramos Villalobos
URL:https://www.fullcoll.edu/events/nuestras-historias-our-stories/
LOCATION:Building 2400\, Room 107
CATEGORIES:Campus Events
END:VEVENT
BEGIN:VEVENT
DTSTART;TZID=America/Los_Angeles:20260317T160000
DTEND;TZID=America/Los_Angeles:20260317T173000
DTSTAMP:20260419T094726
CREATED:20260203T230536Z
LAST-MODIFIED:20260203T230536Z
UID:10006216-1773763200-1773768600@www.fullcoll.edu
SUMMARY:AS Student Senate
DESCRIPTION:The Associated Students (A.S.) is the student government at Fullerton College. A.S. represents all FC students in our shared governance model which means that students have a voice on every level\, ranging from campus committees to District work-groups where issues are discussed and policies created. A.S. is also responsible for campus events and partners with different departments and organizations to enhance the student experience at Fullerton College. \nStudent Senate Meetings (Spring 2025 Semester) \n\n🗓️ Every first\, third\, and fifth Tuesday of the month\n⏰ 4:00 PM – 5:30 PM\n📍 Cruz Reynoso Hall (Building 200)\, Second Floor\, Conference Room 224/226/228
URL:https://www.fullcoll.edu/events/as-student-senate/2026-03-17/
LOCATION:Fullerton College
CATEGORIES:Campus Events,General Events
END:VEVENT
BEGIN:VEVENT
DTSTART;TZID=America/Los_Angeles:20260324T120000
DTEND;TZID=America/Los_Angeles:20260324T140000
DTSTAMP:20260419T094726
CREATED:20260128T205135Z
LAST-MODIFIED:20260128T205135Z
UID:10006071-1774353600-1774360800@www.fullcoll.edu
SUMMARY:Tea With a Trustee
DESCRIPTION:Meet with Trustee Mark Lopez. Tea will be available.
URL:https://www.fullcoll.edu/events/tea-with-a-trustee/
LOCATION:Fullerton College
CATEGORIES:Campus Events,General Events
END:VEVENT
END:VCALENDAR