BEGIN:VCALENDAR
VERSION:2.0
PRODID:-//Fullerton College - ECPv6.15.20//NONSGML v1.0//EN
CALSCALE:GREGORIAN
METHOD:PUBLISH
X-ORIGINAL-URL:https://www.fullcoll.edu
X-WR-CALDESC:Events for Fullerton College
REFRESH-INTERVAL;VALUE=DURATION:PT1H
X-Robots-Tag:noindex
X-PUBLISHED-TTL:PT1H
BEGIN:VTIMEZONE
TZID:America/Los_Angeles
BEGIN:DAYLIGHT
TZOFFSETFROM:-0800
TZOFFSETTO:-0700
TZNAME:PDT
DTSTART:20250309T100000
END:DAYLIGHT
BEGIN:STANDARD
TZOFFSETFROM:-0700
TZOFFSETTO:-0800
TZNAME:PST
DTSTART:20251102T090000
END:STANDARD
BEGIN:DAYLIGHT
TZOFFSETFROM:-0800
TZOFFSETTO:-0700
TZNAME:PDT
DTSTART:20260308T100000
END:DAYLIGHT
BEGIN:STANDARD
TZOFFSETFROM:-0700
TZOFFSETTO:-0800
TZNAME:PST
DTSTART:20261101T090000
END:STANDARD
BEGIN:DAYLIGHT
TZOFFSETFROM:-0800
TZOFFSETTO:-0700
TZNAME:PDT
DTSTART:20270314T100000
END:DAYLIGHT
BEGIN:STANDARD
TZOFFSETFROM:-0700
TZOFFSETTO:-0800
TZNAME:PST
DTSTART:20271107T090000
END:STANDARD
END:VTIMEZONE
BEGIN:VEVENT
DTSTART;TZID=America/Los_Angeles:20260303T160000
DTEND;TZID=America/Los_Angeles:20260303T173000
DTSTAMP:20260419T094727
CREATED:20260203T230536Z
LAST-MODIFIED:20260203T230536Z
UID:10006215-1772553600-1772559000@www.fullcoll.edu
SUMMARY:AS Student Senate
DESCRIPTION:The Associated Students (A.S.) is the student government at Fullerton College. A.S. represents all FC students in our shared governance model which means that students have a voice on every level\, ranging from campus committees to District work-groups where issues are discussed and policies created. A.S. is also responsible for campus events and partners with different departments and organizations to enhance the student experience at Fullerton College. \nStudent Senate Meetings (Spring 2025 Semester) \n\n🗓️ Every first\, third\, and fifth Tuesday of the month\n⏰ 4:00 PM – 5:30 PM\n📍 Cruz Reynoso Hall (Building 200)\, Second Floor\, Conference Room 224/226/228
URL:https://www.fullcoll.edu/events/as-student-senate/2026-03-03/
LOCATION:Fullerton College
CATEGORIES:Campus Events,General Events
END:VEVENT
BEGIN:VEVENT
DTSTART;TZID=America/Los_Angeles:20260309T140000
DTEND;TZID=America/Los_Angeles:20260309T150000
DTSTAMP:20260419T094727
CREATED:20250902T221514Z
LAST-MODIFIED:20250902T221759Z
UID:10003947-1773064800-1773068400@www.fullcoll.edu
SUMMARY:President's Open Office Hour
DESCRIPTION:
URL:https://www.fullcoll.edu/events/presidents-open-office-hour/2026-03-09/
LOCATION:Building 100\, President’s Office
CATEGORIES:General Events,President Event
END:VEVENT
BEGIN:VEVENT
DTSTART;TZID=America/Los_Angeles:20260317T160000
DTEND;TZID=America/Los_Angeles:20260317T173000
DTSTAMP:20260419T094727
CREATED:20260203T230536Z
LAST-MODIFIED:20260203T230536Z
UID:10006216-1773763200-1773768600@www.fullcoll.edu
SUMMARY:AS Student Senate
DESCRIPTION:The Associated Students (A.S.) is the student government at Fullerton College. A.S. represents all FC students in our shared governance model which means that students have a voice on every level\, ranging from campus committees to District work-groups where issues are discussed and policies created. A.S. is also responsible for campus events and partners with different departments and organizations to enhance the student experience at Fullerton College. \nStudent Senate Meetings (Spring 2025 Semester) \n\n🗓️ Every first\, third\, and fifth Tuesday of the month\n⏰ 4:00 PM – 5:30 PM\n📍 Cruz Reynoso Hall (Building 200)\, Second Floor\, Conference Room 224/226/228
URL:https://www.fullcoll.edu/events/as-student-senate/2026-03-17/
LOCATION:Fullerton College
CATEGORIES:Campus Events,General Events
END:VEVENT
BEGIN:VEVENT
DTSTART;TZID=America/Los_Angeles:20260318T150000
DTEND;TZID=America/Los_Angeles:20260318T160000
DTSTAMP:20260419T094727
CREATED:20260115T195410Z
LAST-MODIFIED:20260115T195411Z
UID:10003955-1773846000-1773849600@www.fullcoll.edu
SUMMARY:President's Meet Up
DESCRIPTION:In person in the lobby of the 100 building. Light refreshments served.
URL:https://www.fullcoll.edu/events/presidents-meet-up-2/
LOCATION:Fullerton College
CATEGORIES:General Events,President Event
END:VEVENT
BEGIN:VEVENT
DTSTART;TZID=America/Los_Angeles:20260323T100000
DTEND;TZID=America/Los_Angeles:20260323T110000
DTSTAMP:20260419T094727
CREATED:20260304T185304Z
LAST-MODIFIED:20260304T185305Z
UID:10003948-1774260000-1774263600@www.fullcoll.edu
SUMMARY:President's Open Office Hour
DESCRIPTION:
URL:https://www.fullcoll.edu/events/presidents-open-office-hour-3/
LOCATION:Building 100\, President’s Office
CATEGORIES:General Events,President Event
END:VEVENT
BEGIN:VEVENT
DTSTART;TZID=America/Los_Angeles:20260324T120000
DTEND;TZID=America/Los_Angeles:20260324T140000
DTSTAMP:20260419T094727
CREATED:20260128T205135Z
LAST-MODIFIED:20260128T205135Z
UID:10006071-1774353600-1774360800@www.fullcoll.edu
SUMMARY:Tea With a Trustee
DESCRIPTION:Meet with Trustee Mark Lopez. Tea will be available.
URL:https://www.fullcoll.edu/events/tea-with-a-trustee/
LOCATION:Fullerton College
CATEGORIES:Campus Events,General Events
END:VEVENT
BEGIN:VEVENT
DTSTART;VALUE=DATE:20260330
DTEND;VALUE=DATE:20260404
DTSTAMP:20260419T094727
CREATED:20250407T220503Z
LAST-MODIFIED:20251224T021550Z
UID:10003094-1774828800-1775260799@www.fullcoll.edu
SUMMARY:Spring Break - No Classes
DESCRIPTION:
URL:https://www.fullcoll.edu/events/spring-break-no-classes/
LOCATION:Fullerton College
CATEGORIES:Academic Dates,General Events
END:VEVENT
BEGIN:VEVENT
DTSTART;VALUE=DATE:20260331
DTEND;VALUE=DATE:20260401
DTSTAMP:20260419T094727
CREATED:20250407T220622Z
LAST-MODIFIED:20260324T160858Z
UID:10003095-1774915200-1775001599@www.fullcoll.edu
SUMMARY:Statewide Holiday - Campus Closed
DESCRIPTION:
URL:https://www.fullcoll.edu/events/march31-holiday-campus-closed/
LOCATION:Fullerton College
CATEGORIES:Academic Dates,General Events
END:VEVENT
END:VCALENDAR