BEGIN:VCALENDAR
VERSION:2.0
PRODID:-//Fullerton College - ECPv6.15.20//NONSGML v1.0//EN
CALSCALE:GREGORIAN
METHOD:PUBLISH
X-WR-CALNAME:Fullerton College
X-ORIGINAL-URL:https://www.fullcoll.edu
X-WR-CALDESC:Events for Fullerton College
REFRESH-INTERVAL;VALUE=DURATION:PT1H
X-Robots-Tag:noindex
X-PUBLISHED-TTL:PT1H
BEGIN:VTIMEZONE
TZID:America/Los_Angeles
BEGIN:DAYLIGHT
TZOFFSETFROM:-0800
TZOFFSETTO:-0700
TZNAME:PDT
DTSTART:20250309T100000
END:DAYLIGHT
BEGIN:STANDARD
TZOFFSETFROM:-0700
TZOFFSETTO:-0800
TZNAME:PST
DTSTART:20251102T090000
END:STANDARD
BEGIN:DAYLIGHT
TZOFFSETFROM:-0800
TZOFFSETTO:-0700
TZNAME:PDT
DTSTART:20260308T100000
END:DAYLIGHT
BEGIN:STANDARD
TZOFFSETFROM:-0700
TZOFFSETTO:-0800
TZNAME:PST
DTSTART:20261101T090000
END:STANDARD
BEGIN:DAYLIGHT
TZOFFSETFROM:-0800
TZOFFSETTO:-0700
TZNAME:PDT
DTSTART:20270314T100000
END:DAYLIGHT
BEGIN:STANDARD
TZOFFSETFROM:-0700
TZOFFSETTO:-0800
TZNAME:PST
DTSTART:20271107T090000
END:STANDARD
END:VTIMEZONE
BEGIN:VEVENT
DTSTART;TZID=America/Los_Angeles:20260318T140000
DTEND;TZID=America/Los_Angeles:20260318T160000
DTSTAMP:20260419T111002
CREATED:20260317T181616Z
LAST-MODIFIED:20260318T181617Z
UID:10007396-1773842400-1773849600@www.fullcoll.edu
SUMMARY:Mercy College of Health Sciences Tabling
DESCRIPTION:A representative from Mercy College of Health Sciences will be tabling in front of the Transfer Center (bldg. 200\, rm. 212) from 2-4 PM!  This could be a great opportunity for any of you who are pre-nursing majors\, but even if you aren’t\, feel free to stop by and ask questions!
URL:https://www.fullcoll.edu/events/mercy-college-of-health-sciences-tabling/
CATEGORIES:Transfer Events
ATTACH;FMTTYPE=image/jpeg:/wp-content/uploads/2024/04/transfer_center.jpg
END:VEVENT
END:VCALENDAR