BEGIN:VCALENDAR
VERSION:2.0
PRODID:-//Fullerton College - ECPv6.15.20//NONSGML v1.0//EN
CALSCALE:GREGORIAN
METHOD:PUBLISH
X-WR-CALNAME:Fullerton College
X-ORIGINAL-URL:https://www.fullcoll.edu
X-WR-CALDESC:Events for Fullerton College
REFRESH-INTERVAL;VALUE=DURATION:PT1H
X-Robots-Tag:noindex
X-PUBLISHED-TTL:PT1H
BEGIN:VTIMEZONE
TZID:America/Los_Angeles
BEGIN:DAYLIGHT
TZOFFSETFROM:-0800
TZOFFSETTO:-0700
TZNAME:PDT
DTSTART:20250309T100000
END:DAYLIGHT
BEGIN:STANDARD
TZOFFSETFROM:-0700
TZOFFSETTO:-0800
TZNAME:PST
DTSTART:20251102T090000
END:STANDARD
BEGIN:DAYLIGHT
TZOFFSETFROM:-0800
TZOFFSETTO:-0700
TZNAME:PDT
DTSTART:20260308T100000
END:DAYLIGHT
BEGIN:STANDARD
TZOFFSETFROM:-0700
TZOFFSETTO:-0800
TZNAME:PST
DTSTART:20261101T090000
END:STANDARD
BEGIN:DAYLIGHT
TZOFFSETFROM:-0800
TZOFFSETTO:-0700
TZNAME:PDT
DTSTART:20270314T100000
END:DAYLIGHT
BEGIN:STANDARD
TZOFFSETFROM:-0700
TZOFFSETTO:-0800
TZNAME:PST
DTSTART:20271107T090000
END:STANDARD
END:VTIMEZONE
BEGIN:VEVENT
DTSTART;VALUE=DATE:20261126
DTEND;VALUE=DATE:20261127
DTSTAMP:20260420T011331
CREATED:20260417T193043Z
LAST-MODIFIED:20260417T193043Z
UID:10008129-1795651200-1795737599@www.fullcoll.edu
SUMMARY:Thanksgiving Holiday- Campus Closed
DESCRIPTION:
URL:https://www.fullcoll.edu/events/thanksgiving-holiday-campus-closed/
LOCATION:Fullerton College
CATEGORIES:Academic Dates
END:VEVENT
BEGIN:VEVENT
DTSTART;VALUE=DATE:20261115
DTEND;VALUE=DATE:20261116
DTSTAMP:20260420T011331
CREATED:20260417T213653Z
LAST-MODIFIED:20260417T213706Z
UID:10008154-1794700800-1794787199@www.fullcoll.edu
SUMMARY:Last Day to Withdraw From Classes
DESCRIPTION:
URL:https://www.fullcoll.edu/events/last-day-to-withdraw-from-classses/
LOCATION:Fullerton College
CATEGORIES:Academic Dates
END:VEVENT
BEGIN:VEVENT
DTSTART;VALUE=DATE:20261113
DTEND;VALUE=DATE:20261114
DTSTAMP:20260420T011331
CREATED:20260417T213559Z
LAST-MODIFIED:20260417T213559Z
UID:10008153-1794528000-1794614399@www.fullcoll.edu
SUMMARY:Last Day to Increase/Decrease Variable Unit Classes
DESCRIPTION:
URL:https://www.fullcoll.edu/events/last-day-to-increase-decrease-variable-unit-classes/
LOCATION:Fullerton College
CATEGORIES:Academic Dates
END:VEVENT
BEGIN:VEVENT
DTSTART;VALUE=DATE:20261111
DTEND;VALUE=DATE:20261112
DTSTAMP:20260420T011331
CREATED:20260417T192955Z
LAST-MODIFIED:20260417T192955Z
UID:10008128-1794355200-1794441599@www.fullcoll.edu
SUMMARY:Veterans' Day Holiday- Campus Closed
DESCRIPTION:
URL:https://www.fullcoll.edu/events/veterans-day-holiday-campus-closed/
LOCATION:Fullerton College
CATEGORIES:Academic Dates
END:VEVENT
BEGIN:VEVENT
DTSTART;VALUE=DATE:20261001
DTEND;VALUE=DATE:20261002
DTSTAMP:20260420T011331
CREATED:20260417T213122Z
LAST-MODIFIED:20260417T213122Z
UID:10008148-1790812800-1790899199@www.fullcoll.edu
SUMMARY:Regular Filing for Fall Graduation Ends
DESCRIPTION:
URL:https://www.fullcoll.edu/events/regular-filing-for-fall-graduation-ends/
LOCATION:Fullerton College
CATEGORIES:Academic Dates
END:VEVENT
BEGIN:VEVENT
DTSTART;TZID=America/Los_Angeles:20260907T080000
DTEND;TZID=America/Los_Angeles:20260907T170000
DTSTAMP:20260420T011331
CREATED:20260417T213419Z
LAST-MODIFIED:20260417T213419Z
UID:10008151-1788768000-1788800400@www.fullcoll.edu
SUMMARY:Last Day to Drop Classes Without a "W"
DESCRIPTION:
URL:https://www.fullcoll.edu/events/last-day-to-drop-classes-without-a-w/
LOCATION:Fullerton College
CATEGORIES:Academic Dates
END:VEVENT
BEGIN:VEVENT
DTSTART;VALUE=DATE:20260907
DTEND;VALUE=DATE:20260908
DTSTAMP:20260420T011331
CREATED:20260417T213449Z
LAST-MODIFIED:20260417T213449Z
UID:10008152-1788739200-1788825599@www.fullcoll.edu
SUMMARY:Last Day to Add Classes
DESCRIPTION:
URL:https://www.fullcoll.edu/events/last-day-to-add-classes/
LOCATION:Fullerton College
CATEGORIES:Academic Dates
END:VEVENT
BEGIN:VEVENT
DTSTART;VALUE=DATE:20260907
DTEND;VALUE=DATE:20260908
DTSTAMP:20260420T011331
CREATED:20260417T213331Z
LAST-MODIFIED:20260417T213331Z
UID:10008150-1788739200-1788825599@www.fullcoll.edu
SUMMARY:Last Day to Drop Classes and Qualify for a Refund
DESCRIPTION:
URL:https://www.fullcoll.edu/events/last-day-to-drop-classes-and-qualify-for-a-refund/
LOCATION:Fullerton College
CATEGORIES:Academic Dates
END:VEVENT
BEGIN:VEVENT
DTSTART;VALUE=DATE:20260907
DTEND;VALUE=DATE:20260908
DTSTAMP:20260420T011331
CREATED:20260417T192847Z
LAST-MODIFIED:20260417T192847Z
UID:10008127-1788739200-1788825599@www.fullcoll.edu
SUMMARY:Labor Day Holiday- Campus Closed
DESCRIPTION:
URL:https://www.fullcoll.edu/events/labor-day-holiday-campus-closed/
LOCATION:Fullerton College
CATEGORIES:Academic Dates
END:VEVENT
BEGIN:VEVENT
DTSTART;VALUE=DATE:20260904
DTEND;VALUE=DATE:20260905
DTSTAMP:20260420T011331
CREATED:20260417T213216Z
LAST-MODIFIED:20260417T213216Z
UID:10008149-1788480000-1788566399@www.fullcoll.edu
SUMMARY:Last Day to File Audit Forms
DESCRIPTION:
URL:https://www.fullcoll.edu/events/last-day-to-file-audit-forms/
LOCATION:Fullerton College
CATEGORIES:Academic Dates
END:VEVENT
BEGIN:VEVENT
DTSTART;VALUE=DATE:20260824
DTEND;VALUE=DATE:20260825
DTSTAMP:20260420T011331
CREATED:20260417T192807Z
LAST-MODIFIED:20260417T192807Z
UID:10008126-1787529600-1787615999@www.fullcoll.edu
SUMMARY:Fall Semester Begins
DESCRIPTION:
URL:https://www.fullcoll.edu/events/fall-semester-begins/
LOCATION:Fullerton College
CATEGORIES:Academic Dates
END:VEVENT
BEGIN:VEVENT
DTSTART;VALUE=DATE:20260703
DTEND;VALUE=DATE:20260704
DTSTAMP:20260420T011331
CREATED:20260417T192424Z
LAST-MODIFIED:20260417T192424Z
UID:10008124-1783036800-1783123199@www.fullcoll.edu
SUMMARY:Independence Holiday- Campus Closed
DESCRIPTION:
URL:https://www.fullcoll.edu/events/independence-holiday-campus-closed/
LOCATION:Fullerton College
CATEGORIES:Academic Dates
END:VEVENT
BEGIN:VEVENT
DTSTART;VALUE=DATE:20260629
DTEND;VALUE=DATE:20260630
DTSTAMP:20260420T011331
CREATED:20260417T213046Z
LAST-MODIFIED:20260417T213046Z
UID:10008147-1782691200-1782777599@www.fullcoll.edu
SUMMARY:Regular Filing for Fall Graduation Begins
DESCRIPTION:
URL:https://www.fullcoll.edu/events/regular-filing-for-fall-graduation-begins/
LOCATION:Fullerton College
CATEGORIES:Academic Dates
END:VEVENT
BEGIN:VEVENT
DTSTART;VALUE=DATE:20260619
DTEND;VALUE=DATE:20260620
DTSTAMP:20260420T011331
CREATED:20250407T221431Z
LAST-MODIFIED:20251224T021515Z
UID:10003103-1781827200-1781913599@www.fullcoll.edu
SUMMARY:Juneteenth Holiday - Campus Closed
DESCRIPTION:
URL:https://www.fullcoll.edu/events/juneteenth-holiday-campus-closed-3/
LOCATION:Fullerton College
CATEGORIES:Academic Dates,General Events
END:VEVENT
BEGIN:VEVENT
DTSTART;VALUE=DATE:20260618
DTEND;VALUE=DATE:20260619
DTSTAMP:20260420T011331
CREATED:20260417T192711Z
LAST-MODIFIED:20260417T192711Z
UID:10008125-1781740800-1781827199@www.fullcoll.edu
SUMMARY:Juneteenth Holiday Observed-  Campus Closed
DESCRIPTION:
URL:https://www.fullcoll.edu/events/juneteenth-holiday-observed-campus-closed/
LOCATION:Fullerton College
CATEGORIES:Academic Dates
END:VEVENT
BEGIN:VEVENT
DTSTART;VALUE=DATE:20260608
DTEND;VALUE=DATE:20260609
DTSTAMP:20260420T011331
CREATED:20260106T232356Z
LAST-MODIFIED:20260106T232356Z
UID:10005835-1780876800-1780963199@www.fullcoll.edu
SUMMARY:Summer Session Begins
DESCRIPTION:
URL:https://www.fullcoll.edu/events/summer-session-begins/
LOCATION:Fullerton College
CATEGORIES:Academic Dates
END:VEVENT
BEGIN:VEVENT
DTSTART;VALUE=DATE:20260608
DTEND;VALUE=DATE:20260609
DTSTAMP:20260420T011331
CREATED:20250407T221229Z
LAST-MODIFIED:20250407T221229Z
UID:10003101-1780876800-1780963199@www.fullcoll.edu
SUMMARY:Summer Session Begins
DESCRIPTION:
URL:https://www.fullcoll.edu/events/summer-session-begins-2/
LOCATION:Fullerton College
CATEGORIES:Academic Dates,General Events
END:VEVENT
BEGIN:VEVENT
DTSTART;VALUE=DATE:20260530
DTEND;VALUE=DATE:20260531
DTSTAMP:20260420T011331
CREATED:20260106T232311Z
LAST-MODIFIED:20260106T232311Z
UID:10005834-1780099200-1780185599@www.fullcoll.edu
SUMMARY:Spring Term Ends
DESCRIPTION:
URL:https://www.fullcoll.edu/events/spring-term-ends/
LOCATION:Fullerton College
CATEGORIES:Academic Dates
END:VEVENT
BEGIN:VEVENT
DTSTART;VALUE=DATE:20260530
DTEND;VALUE=DATE:20260531
DTSTAMP:20260420T011331
CREATED:20250407T221035Z
LAST-MODIFIED:20250407T221035Z
UID:10003099-1780099200-1780185599@www.fullcoll.edu
SUMMARY:Spring Semester Ends
DESCRIPTION:
URL:https://www.fullcoll.edu/events/spring-semester-ends-3/
LOCATION:Fullerton College
CATEGORIES:Academic Dates,General Events
END:VEVENT
BEGIN:VEVENT
DTSTART;TZID=America/Los_Angeles:20260525T141500
DTEND;TZID=America/Los_Angeles:20260525T150000
DTSTAMP:20260420T011331
CREATED:20260228T170143Z
LAST-MODIFIED:20260419T210111Z
UID:10006919-1779718500-1779721200@www.fullcoll.edu
SUMMARY:Mindfulness Student Club Meeting
DESCRIPTION:
URL:https://www.fullcoll.edu/events/mindfulness-student-club-meeting-6/
LOCATION:Building 2400\, Room 103
CATEGORIES:Mindful Events
ATTACH;FMTTYPE=image/jpeg:/wp-content/uploads/2024/04/mindful.jpg
ORGANIZER;CN="ttrujillo":MAILTO:ttrujillo@fullcoll.edu
END:VEVENT
BEGIN:VEVENT
DTSTART;VALUE=DATE:20260525
DTEND;VALUE=DATE:20260526
DTSTAMP:20260420T011331
CREATED:20250407T220817Z
LAST-MODIFIED:20251224T021539Z
UID:10003097-1779667200-1779753599@www.fullcoll.edu
SUMMARY:Memorial Day Holiday - Campus Closed
DESCRIPTION:
URL:https://www.fullcoll.edu/events/memorial-day-holiday-campus-closed/
LOCATION:Fullerton College
CATEGORIES:Academic Dates,General Events
END:VEVENT
BEGIN:VEVENT
DTSTART;TZID=America/Los_Angeles:20260523T193000
DTEND;TZID=America/Los_Angeles:20260523T213000
DTSTAMP:20260420T011331
CREATED:20260419T163134Z
LAST-MODIFIED:20260419T163134Z
UID:10008186-1779564600-1779571800@www.fullcoll.edu
SUMMARY:Comedy of Errors
DESCRIPTION:After both being separated from their twins in a shipwreck\, Antipholus and his slave Dromio go to Ephesus to find them. The other set of twins lives in Ephesus\, and the new arrivals cause a series of incidents of mistaken identity.
URL:https://www.fullcoll.edu/events/comedy-of-errors-12/
LOCATION:Fullerton College
CATEGORIES:Fine Arts
END:VEVENT
BEGIN:VEVENT
DTSTART;TZID=America/Los_Angeles:20260523T133000
DTEND;TZID=America/Los_Angeles:20260523T190000
DTSTAMP:20260420T011331
CREATED:20260419T163134Z
LAST-MODIFIED:20260419T163134Z
UID:10008185-1779543000-1779562800@www.fullcoll.edu
SUMMARY:Comedy of Errors
DESCRIPTION:After both being separated from their twins in a shipwreck\, Antipholus and his slave Dromio go to Ephesus to find them. The other set of twins lives in Ephesus\, and the new arrivals cause a series of incidents of mistaken identity.
URL:https://www.fullcoll.edu/events/comedy-of-errors-11/
LOCATION:Fullerton College
CATEGORIES:Fine Arts
END:VEVENT
BEGIN:VEVENT
DTSTART;TZID=America/Los_Angeles:20260522T193000
DTEND;TZID=America/Los_Angeles:20260522T213000
DTSTAMP:20260420T011331
CREATED:20260419T163133Z
LAST-MODIFIED:20260419T163133Z
UID:10008184-1779478200-1779485400@www.fullcoll.edu
SUMMARY:Comedy of Errors
DESCRIPTION:After both being separated from their twins in a shipwreck\, Antipholus and his slave Dromio go to Ephesus to find them. The other set of twins lives in Ephesus\, and the new arrivals cause a series of incidents of mistaken identity.
URL:https://www.fullcoll.edu/events/comedy-of-errors-10/
LOCATION:Fullerton College
CATEGORIES:Fine Arts
END:VEVENT
BEGIN:VEVENT
DTSTART;TZID=America/Los_Angeles:20260521T193000
DTEND;TZID=America/Los_Angeles:20260521T213000
DTSTAMP:20260420T011331
CREATED:20260419T163133Z
LAST-MODIFIED:20260419T163133Z
UID:10008183-1779391800-1779399000@www.fullcoll.edu
SUMMARY:Comedy of Errors
DESCRIPTION:After both being separated from their twins in a shipwreck\, Antipholus and his slave Dromio go to Ephesus to find them. The other set of twins lives in Ephesus\, and the new arrivals cause a series of incidents of mistaken identity.
URL:https://www.fullcoll.edu/events/comedy-of-errors-9/
LOCATION:Fullerton College
CATEGORIES:Fine Arts
END:VEVENT
BEGIN:VEVENT
DTSTART;TZID=America/Los_Angeles:20260521T170000
DTEND;TZID=America/Los_Angeles:20260521T173000
DTSTAMP:20260420T011331
CREATED:20260126T152726Z
LAST-MODIFIED:20260419T210110Z
UID:10006039-1779382800-1779384600@www.fullcoll.edu
SUMMARY:Thoughtful Thursdays Drop-In Practice
DESCRIPTION:
URL:https://www.fullcoll.edu/events/thoughtful-thursdays-drop-in-practice-13/
LOCATION:Zoom
CATEGORIES:Mindful Events
ATTACH;FMTTYPE=image/jpeg:/wp-content/uploads/2024/04/mindful.jpg
ORGANIZER;CN="ttrujillo":MAILTO:ttrujillo@fullcoll.edu
END:VEVENT
BEGIN:VEVENT
DTSTART;TZID=America/Los_Angeles:20260519T193000
DTEND;TZID=America/Los_Angeles:20260519T210000
DTSTAMP:20260420T011331
CREATED:20260419T163132Z
LAST-MODIFIED:20260419T163132Z
UID:10008182-1779219000-1779224400@www.fullcoll.edu
SUMMARY:J-Train and Big Band
DESCRIPTION:This award winning ensemble performs jazz fusion music as well as standard big band swing jazz throughout the semester.  J-Train is the premiere vocal jazz performance\, touring\, and recording ensemble at Fullerton College.  The group performs nationally at jazz festivals\, conferences\, and many other private and public concerts and has released three albums since 2008.  They have appeared on stage with such legendary jazz artists as New York Voices\, Tierney Sutton\, Bobby McFerrin\, Don Shelton\, Kristin Korb\, Sunny Wilkinson\, and Nancy King.  J-Train has performed at a variety of jazz festivals around the country\, including Phil Mattson’s 2005 Vocal Jazz Festival at Carnegie Hall\, the 2013 Frank DeMiero Jazz Festival in Seattle\, the 2014 UNC Jazz Festival in Greeley\, CO\, and the 2016 New York Voices Jazz Festival in Chicago\, IL.  They also had the distinct honor to perform at the 2013 Twelfth Kyoto Prize Symposium Gala and the 2015 Jazz Education Network’s National Convention\, both held in San Diego\, CA.  In March 2012\, J-Train competed at the Monterey Next Generation Jazz Festival\, and won first place in the College Vocal Jazz Ensemble Division. This distinguished award gave them the opportunity to return in the following September to perform at the world-renown 55th Annual Monterey Jazz Festival.
URL:https://www.fullcoll.edu/events/j-train-and-big-band-2/
LOCATION:Fullerton College
CATEGORIES:Fine Arts
END:VEVENT
BEGIN:VEVENT
DTSTART;TZID=America/Los_Angeles:20260518T133000
DTEND;TZID=America/Los_Angeles:20260518T153000
DTSTAMP:20260420T011331
CREATED:20260123T162105Z
LAST-MODIFIED:20260123T162105Z
UID:10005983-1779111000-1779118200@www.fullcoll.edu
SUMMARY:Neuro Nest
DESCRIPTION:Neuro Nest is a supportive\, welcoming space for neurodivergent folks and allies to connect\, share\, and be themselves. All are welcome to join this community support group where differences are celebrated and every voice matters.
URL:https://www.fullcoll.edu/events/neuro-nest/2026-05-18/
LOCATION:Student Support Center Room 207
CATEGORIES:Student Health
ATTACH;FMTTYPE=image/png:/wp-content/uploads/2026/01/Neuro-Nest.png
END:VEVENT
BEGIN:VEVENT
DTSTART;TZID=America/Los_Angeles:20260516T193000
DTEND;TZID=America/Los_Angeles:20260516T213000
DTSTAMP:20260420T011331
CREATED:20260419T163132Z
LAST-MODIFIED:20260419T163132Z
UID:10008181-1778959800-1778967000@www.fullcoll.edu
SUMMARY:Comedy of Errors
DESCRIPTION:After both being separated from their twins in a shipwreck\, Antipholus and his slave Dromio go to Ephesus to find them. The other set of twins lives in Ephesus\, and the new arrivals cause a series of incidents of mistaken identity.
URL:https://www.fullcoll.edu/events/comedy-of-errors-8/
LOCATION:Fullerton College
CATEGORIES:Fine Arts
END:VEVENT
BEGIN:VEVENT
DTSTART;TZID=America/Los_Angeles:20260515T193000
DTEND;TZID=America/Los_Angeles:20260515T213000
DTSTAMP:20260420T011331
CREATED:20260419T163108Z
LAST-MODIFIED:20260419T163108Z
UID:10008180-1778873400-1778880600@www.fullcoll.edu
SUMMARY:Comedy of Errors
DESCRIPTION:After both being separated from their twins in a shipwreck\, Antipholus and his slave Dromio go to Ephesus to find them. The other set of twins lives in Ephesus\, and the new arrivals cause a series of incidents of mistaken identity.
URL:https://www.fullcoll.edu/events/comedy-of-errors-7/
LOCATION:Fullerton College
CATEGORIES:Fine Arts
END:VEVENT
END:VCALENDAR