BEGIN:VCALENDAR
VERSION:2.0
PRODID:-//Fullerton College - ECPv6.15.20//NONSGML v1.0//EN
CALSCALE:GREGORIAN
METHOD:PUBLISH
X-WR-CALNAME:Fullerton College
X-ORIGINAL-URL:https://www.fullcoll.edu
X-WR-CALDESC:Events for Fullerton College
REFRESH-INTERVAL;VALUE=DURATION:PT1H
X-Robots-Tag:noindex
X-PUBLISHED-TTL:PT1H
BEGIN:VTIMEZONE
TZID:America/Los_Angeles
BEGIN:DAYLIGHT
TZOFFSETFROM:-0800
TZOFFSETTO:-0700
TZNAME:PDT
DTSTART:20250309T100000
END:DAYLIGHT
BEGIN:STANDARD
TZOFFSETFROM:-0700
TZOFFSETTO:-0800
TZNAME:PST
DTSTART:20251102T090000
END:STANDARD
BEGIN:DAYLIGHT
TZOFFSETFROM:-0800
TZOFFSETTO:-0700
TZNAME:PDT
DTSTART:20260308T100000
END:DAYLIGHT
BEGIN:STANDARD
TZOFFSETFROM:-0700
TZOFFSETTO:-0800
TZNAME:PST
DTSTART:20261101T090000
END:STANDARD
BEGIN:DAYLIGHT
TZOFFSETFROM:-0800
TZOFFSETTO:-0700
TZNAME:PDT
DTSTART:20270314T100000
END:DAYLIGHT
BEGIN:STANDARD
TZOFFSETFROM:-0700
TZOFFSETTO:-0800
TZNAME:PST
DTSTART:20271107T090000
END:STANDARD
END:VTIMEZONE
BEGIN:VEVENT
DTSTART;TZID=America/Los_Angeles:20260226T133000
DTEND;TZID=America/Los_Angeles:20260226T150000
DTSTAMP:20260420T202804
CREATED:20260207T164623Z
LAST-MODIFIED:20260226T174614Z
UID:10006328-1772112600-1772118000@www.fullcoll.edu
SUMMARY:Azusa Pacific University Tabling
DESCRIPTION:A representative from Azusa Pacific University will be tabling outside the Transfer Center Thursday\, February 26\, 2026 from 1:30PM-3:00PM.  Feel free to stop by if you have any questions for them!
URL:https://www.fullcoll.edu/event/azusa-pacific-university-tabling-3/
LOCATION:Transfer Center\, Cruz Reynoso Hall\, Room 212
CATEGORIES:Transfer Events
ATTACH;FMTTYPE=image/jpeg:/wp-content/uploads/2024/04/transfer_center.jpg
END:VEVENT
BEGIN:VEVENT
DTSTART;TZID=America/Los_Angeles:20260226T130000
DTEND;TZID=America/Los_Angeles:20260226T143000
DTSTAMP:20260420T202804
CREATED:20260127T064228Z
LAST-MODIFIED:20260226T090118Z
UID:10006050-1772110800-1772116200@www.fullcoll.edu
SUMMARY:LGBTQIA2S+ Presents: Adulting 101: Healthy Polyamorous Relationships
DESCRIPTION:Curious about polyamory or navigating ethical non-monogamy? This Adulting 101 session will explore what healthy polyamorous relationships can look like\, including communication\, boundaries\, consent\, and managing jealousy. A judgment-free space to learn\, reflect\, and ask questions.
URL:https://www.fullcoll.edu/event/lgbtqia2s-presents-adulting-101-healthy-polyamorous-relationships/
LOCATION:Student Support Center Room 201\, Study Area
CATEGORIES:Cultural Events
END:VEVENT
BEGIN:VEVENT
DTSTART;VALUE=DATE:20260226
DTEND;VALUE=DATE:20260227
DTSTAMP:20260420T202804
CREATED:20260220T174619Z
LAST-MODIFIED:20260226T174614Z
UID:10006696-1772064000-1772150399@www.fullcoll.edu
SUMMARY:Transfer Center: Limited Hours Today
DESCRIPTION:The Transfer Center will be open from 1:00pm to 5:00pm today; the Center will be closed from 8:00am to 1:00pm.
URL:https://www.fullcoll.edu/event/transfer-center-limited-hours-today-3/
CATEGORIES:Transfer Events
ATTACH;FMTTYPE=image/jpeg:/wp-content/uploads/2024/04/transfer_center.jpg
END:VEVENT
BEGIN:VEVENT
DTSTART;TZID=America/Los_Angeles:20260225T170000
DTEND;TZID=America/Los_Angeles:20260225T180000
DTSTAMP:20260420T202804
CREATED:20260203T114608Z
LAST-MODIFIED:20260225T141609Z
UID:10006194-1772038800-1772042400@www.fullcoll.edu
SUMMARY:Career Center: Interview 101 Webinar
DESCRIPTION:
URL:https://www.fullcoll.edu/event/career-center-interview-101-webinar/
LOCATION:This is a live webinar\, you will be emailed a Zoom link once you register.
CATEGORIES:Career Skills
ORGANIZER;CN="rkhan":MAILTO:rkhan@fullcoll.edu
END:VEVENT
BEGIN:VEVENT
DTSTART;TZID=America/Los_Angeles:20260225T150000
DTEND;TZID=America/Los_Angeles:20260225T173000
DTSTAMP:20260420T202804
CREATED:20260128T204949Z
LAST-MODIFIED:20260202T163144Z
UID:10006070-1772031600-1772040600@www.fullcoll.edu
SUMMARY:BHM: Danez Smith Author Book Signing
DESCRIPTION:
URL:https://www.fullcoll.edu/event/bhm-danez-smith-author-book-signing/
LOCATION:Building 200\, Rooms 224-226
CATEGORIES:Cultural Events
END:VEVENT
BEGIN:VEVENT
DTSTART;TZID=America/Los_Angeles:20260225T130000
DTEND;TZID=America/Los_Angeles:20260225T150000
DTSTAMP:20260420T202804
CREATED:20260211T002437Z
LAST-MODIFIED:20260211T002437Z
UID:10006434-1772024400-1772031600@www.fullcoll.edu
SUMMARY:Understanding your CalOptima Health Coverage Through Medi-Cal Workshop
DESCRIPTION:Hosted by Basic Needs The Hornets’ Resource Center \nLearn about coverage and how to use your benefits. Register here: https://forms.office.com/Pages/DesignPageV2.aspx?prevorigin=shell&origin=NeoPortalPage&subpage=design&id=L3W0-CmKDk2XtfdChQWrOFCBGnvkizJGuTF5PwXJDDdUMjdBTzdPWlFIUlFKWkZOT0VOTjlXR0tVQi4u \nWednesday\, February 25\, 2026 from 1:00 PM – 3:00 PM in Building 1000\, Room 1018 \n(714) 992-7003; hrc.fullcoll.edu; hrc@fullcoll.edu
URL:https://www.fullcoll.edu/event/understanding-your-caloptima-health-coverage-through-medi-cal-workshop/2026-02-25/
LOCATION:Fullerton College
CATEGORIES:Campus Events,General Events,Student Health
ATTACH;FMTTYPE=image/png:/wp-content/uploads/2026/02/QR-Code-Version.png
END:VEVENT
BEGIN:VEVENT
DTSTART;TZID=America/Los_Angeles:20260225T123000
DTEND;TZID=America/Los_Angeles:20260225T140000
DTSTAMP:20260420T202804
CREATED:20260126T064230Z
LAST-MODIFIED:20260225T090116Z
UID:10006015-1772022600-1772028000@www.fullcoll.edu
SUMMARY:Grads to Be Program Presents: Butterfly Break #2
DESCRIPTION:Join our wellness therapist during our Butterfly Breaks to build community\, make connections\, and take a moment to unwind.
URL:https://www.fullcoll.edu/event/grads-to-be-program-presents-butterfly-break-2/
LOCATION:Student Support Center Room 201
CATEGORIES:Cultural Events
END:VEVENT
BEGIN:VEVENT
DTSTART;TZID=America/Los_Angeles:20260225T110000
DTEND;TZID=America/Los_Angeles:20260225T130000
DTSTAMP:20260420T202804
CREATED:20260212T234603Z
LAST-MODIFIED:20260212T234603Z
UID:10006485-1772017200-1772024400@www.fullcoll.edu
SUMMARY:Sugar Rush
DESCRIPTION:Don’t miss Sugar Rush hosted by the Promise Program and Associated Students/Student Life & Leadership! Network with peers\, schedule your Spring Promise check-in\, learn about programs and clubs\, and enjoy sweets!
URL:https://www.fullcoll.edu/event/sugar-rush/
LOCATION:Fullerton College Quad\, 321 E. Chapman Avenue\, Fullerton\, CA\, 92834\, United States
CATEGORIES:Campus Events,General Events
ATTACH;FMTTYPE=image/png:/wp-content/uploads/2026/02/Starfish-Event-Banners-1.png
END:VEVENT
END:VCALENDAR