BEGIN:VCALENDAR
VERSION:2.0
PRODID:-//Fullerton College - ECPv6.15.20//NONSGML v1.0//EN
CALSCALE:GREGORIAN
METHOD:PUBLISH
X-ORIGINAL-URL:https://www.fullcoll.edu
X-WR-CALDESC:Events for Fullerton College
REFRESH-INTERVAL;VALUE=DURATION:PT1H
X-Robots-Tag:noindex
X-PUBLISHED-TTL:PT1H
BEGIN:VTIMEZONE
TZID:America/Los_Angeles
BEGIN:DAYLIGHT
TZOFFSETFROM:-0800
TZOFFSETTO:-0700
TZNAME:PDT
DTSTART:20250309T100000
END:DAYLIGHT
BEGIN:STANDARD
TZOFFSETFROM:-0700
TZOFFSETTO:-0800
TZNAME:PST
DTSTART:20251102T090000
END:STANDARD
BEGIN:DAYLIGHT
TZOFFSETFROM:-0800
TZOFFSETTO:-0700
TZNAME:PDT
DTSTART:20260308T100000
END:DAYLIGHT
BEGIN:STANDARD
TZOFFSETFROM:-0700
TZOFFSETTO:-0800
TZNAME:PST
DTSTART:20261101T090000
END:STANDARD
BEGIN:DAYLIGHT
TZOFFSETFROM:-0800
TZOFFSETTO:-0700
TZNAME:PDT
DTSTART:20270314T100000
END:DAYLIGHT
BEGIN:STANDARD
TZOFFSETFROM:-0700
TZOFFSETTO:-0800
TZNAME:PST
DTSTART:20271107T090000
END:STANDARD
BEGIN:DAYLIGHT
TZOFFSETFROM:-0800
TZOFFSETTO:-0700
TZNAME:PDT
DTSTART:20280312T100000
END:DAYLIGHT
BEGIN:STANDARD
TZOFFSETFROM:-0700
TZOFFSETTO:-0800
TZNAME:PST
DTSTART:20281105T090000
END:STANDARD
END:VTIMEZONE
BEGIN:VEVENT
DTSTART;VALUE=DATE:20261126
DTEND;VALUE=DATE:20261127
DTSTAMP:20260419T235557
CREATED:20260417T193043Z
LAST-MODIFIED:20260417T193043Z
UID:10008129-1795651200-1795737599@www.fullcoll.edu
SUMMARY:Thanksgiving Holiday- Campus Closed
DESCRIPTION:
URL:https://www.fullcoll.edu/events/thanksgiving-holiday-campus-closed/
LOCATION:Fullerton College
CATEGORIES:Academic Dates
END:VEVENT
BEGIN:VEVENT
DTSTART;VALUE=DATE:20261127
DTEND;VALUE=DATE:20261128
DTSTAMP:20260419T235557
CREATED:20260417T193116Z
LAST-MODIFIED:20260417T193116Z
UID:10008130-1795737600-1795823999@www.fullcoll.edu
SUMMARY:Thanksgiving Holiday- Campus Closed
DESCRIPTION:
URL:https://www.fullcoll.edu/events/thanksgiving-holiday-campus-closed-2/
LOCATION:Fullerton College
CATEGORIES:Academic Dates
END:VEVENT
BEGIN:VEVENT
DTSTART;VALUE=DATE:20261212
DTEND;VALUE=DATE:20261213
DTSTAMP:20260419T235557
CREATED:20260417T193155Z
LAST-MODIFIED:20260417T193155Z
UID:10008131-1797033600-1797119999@www.fullcoll.edu
SUMMARY:Fall Semester Ends
DESCRIPTION:
URL:https://www.fullcoll.edu/events/fall-semester-ends/
LOCATION:Fullerton College
CATEGORIES:Academic Dates
END:VEVENT
BEGIN:VEVENT
DTSTART;VALUE=DATE:20261224
DTEND;VALUE=DATE:20270102
DTSTAMP:20260419T235557
CREATED:20260417T193301Z
LAST-MODIFIED:20260417T193301Z
UID:10008132-1798070400-1798847999@www.fullcoll.edu
SUMMARY:Winter Holidays- Campus Closed
DESCRIPTION:
URL:https://www.fullcoll.edu/events/winter-holidays-campus-closed/
LOCATION:Fullerton College
CATEGORIES:Academic Dates
END:VEVENT
BEGIN:VEVENT
DTSTART;VALUE=DATE:20270104
DTEND;VALUE=DATE:20270105
DTSTAMP:20260419T235557
CREATED:20260417T193355Z
LAST-MODIFIED:20260417T193355Z
UID:10008133-1799020800-1799107199@www.fullcoll.edu
SUMMARY:Winter Intersession Begins
DESCRIPTION:
URL:https://www.fullcoll.edu/events/winter-intersession-begins/
LOCATION:Fullerton College
CATEGORIES:Academic Dates
END:VEVENT
BEGIN:VEVENT
DTSTART;VALUE=DATE:20270118
DTEND;VALUE=DATE:20270119
DTSTAMP:20260419T235557
CREATED:20260417T193616Z
LAST-MODIFIED:20260417T193616Z
UID:10008135-1800230400-1800316799@www.fullcoll.edu
SUMMARY:Martin L. King Holiday- Campus Closed
DESCRIPTION:
URL:https://www.fullcoll.edu/events/martin-l-king-holiday-campus-closed/
LOCATION:Fullerton College
CATEGORIES:Academic Dates
END:VEVENT
BEGIN:VEVENT
DTSTART;VALUE=DATE:20270127
DTEND;VALUE=DATE:20270128
DTSTAMP:20260419T235557
CREATED:20260417T193520Z
LAST-MODIFIED:20260417T193520Z
UID:10008134-1801008000-1801094399@www.fullcoll.edu
SUMMARY:Winter Intersession Ends
DESCRIPTION:
URL:https://www.fullcoll.edu/events/winter-intersession-ends/
LOCATION:Fullerton College
CATEGORIES:Academic Dates
END:VEVENT
BEGIN:VEVENT
DTSTART;VALUE=DATE:20270201
DTEND;VALUE=DATE:20270202
DTSTAMP:20260419T235557
CREATED:20260417T193658Z
LAST-MODIFIED:20260417T193658Z
UID:10008136-1801440000-1801526399@www.fullcoll.edu
SUMMARY:Spring Semester Begins
DESCRIPTION:
URL:https://www.fullcoll.edu/events/spring-semester-begins/
LOCATION:Fullerton College
CATEGORIES:Academic Dates
END:VEVENT
BEGIN:VEVENT
DTSTART;VALUE=DATE:20270205
DTEND;VALUE=DATE:20270206
DTSTAMP:20260419T235557
CREATED:20260417T193746Z
LAST-MODIFIED:20260417T193746Z
UID:10008137-1801785600-1801871999@www.fullcoll.edu
SUMMARY:Lunar New Year Holiday- Campus Closed
DESCRIPTION:
URL:https://www.fullcoll.edu/events/lunar-new-year-holiday-campus-closed/
LOCATION:Fullerton College
CATEGORIES:Academic Dates
END:VEVENT
BEGIN:VEVENT
DTSTART;VALUE=DATE:20270212
DTEND;VALUE=DATE:20270213
DTSTAMP:20260419T235557
CREATED:20260417T194055Z
LAST-MODIFIED:20260417T194055Z
UID:10008138-1802390400-1802476799@www.fullcoll.edu
SUMMARY:Lincoln's Birthday Holiday- Campus Closed
DESCRIPTION:
URL:https://www.fullcoll.edu/events/lincolns-birthday-holiday-campus-closed/
LOCATION:Fullerton College
CATEGORIES:Academic Dates
END:VEVENT
BEGIN:VEVENT
DTSTART;VALUE=DATE:20270215
DTEND;VALUE=DATE:20270216
DTSTAMP:20260419T235557
CREATED:20260417T194141Z
LAST-MODIFIED:20260417T194141Z
UID:10008139-1802649600-1802735999@www.fullcoll.edu
SUMMARY:Presidents' Day Holiday- Campus Closed
DESCRIPTION:
URL:https://www.fullcoll.edu/events/presidents-day-holiday-campus-closed/
LOCATION:Fullerton College
CATEGORIES:Academic Dates
END:VEVENT
BEGIN:VEVENT
DTSTART;VALUE=DATE:20270329
DTEND;VALUE=DATE:20270403
DTSTAMP:20260419T235557
CREATED:20260417T194529Z
LAST-MODIFIED:20260417T194529Z
UID:10008140-1806278400-1806710399@www.fullcoll.edu
SUMMARY:Spring Recess- No Classes
DESCRIPTION:
URL:https://www.fullcoll.edu/events/spring-recess-no-classes/
LOCATION:Fullerton College
CATEGORIES:Academic Dates
END:VEVENT
BEGIN:VEVENT
DTSTART;VALUE=DATE:20270331
DTEND;VALUE=DATE:20270401
DTSTAMP:20260419T235557
CREATED:20260417T194820Z
LAST-MODIFIED:20260417T194820Z
UID:10008141-1806451200-1806537599@www.fullcoll.edu
SUMMARY:State Holiday- Campus Closed
DESCRIPTION:
URL:https://www.fullcoll.edu/events/state-holiday-campus-closed/
LOCATION:Fullerton College
CATEGORIES:Academic Dates
END:VEVENT
BEGIN:VEVENT
DTSTART;VALUE=DATE:20270402
DTEND;VALUE=DATE:20270403
DTSTAMP:20260419T235557
CREATED:20260417T194910Z
LAST-MODIFIED:20260417T194910Z
UID:10008142-1806624000-1806710399@www.fullcoll.edu
SUMMARY:Spring Holiday- Campus Closed
DESCRIPTION:
URL:https://www.fullcoll.edu/events/spring-holiday-campus-closed-2/
LOCATION:Fullerton College
CATEGORIES:Academic Dates
END:VEVENT
BEGIN:VEVENT
DTSTART;VALUE=DATE:20270529
DTEND;VALUE=DATE:20270530
DTSTAMP:20260419T235557
CREATED:20260417T194955Z
LAST-MODIFIED:20260417T194955Z
UID:10008143-1811548800-1811635199@www.fullcoll.edu
SUMMARY:Spring Semester Ends
DESCRIPTION:
URL:https://www.fullcoll.edu/events/spring-semester-ends/
LOCATION:Fullerton College
CATEGORIES:Academic Dates
END:VEVENT
BEGIN:VEVENT
DTSTART;VALUE=DATE:20270531
DTEND;VALUE=DATE:20270601
DTSTAMP:20260419T235557
CREATED:20260417T195033Z
LAST-MODIFIED:20260417T195033Z
UID:10008144-1811721600-1811807999@www.fullcoll.edu
SUMMARY:Memorial Day Holiday- Campus Closed
DESCRIPTION:
URL:https://www.fullcoll.edu/events/memorial-day-holiday-campus-closed-2/
LOCATION:Fullerton College
CATEGORIES:Academic Dates
END:VEVENT
BEGIN:VEVENT
DTSTART;VALUE=DATE:20270607
DTEND;VALUE=DATE:20270608
DTSTAMP:20260419T235557
CREATED:20260417T195142Z
LAST-MODIFIED:20260417T195142Z
UID:10008145-1812326400-1812412799@www.fullcoll.edu
SUMMARY:Summer Session Begins
DESCRIPTION:
URL:https://www.fullcoll.edu/events/summer-session-begins-3/
LOCATION:Fullerton College
CATEGORIES:Academic Dates
END:VEVENT
BEGIN:VEVENT
DTSTART;VALUE=DATE:20270618
DTEND;VALUE=DATE:20270619
DTSTAMP:20260419T235557
CREATED:20260417T195411Z
LAST-MODIFIED:20260417T195411Z
UID:10008146-1813276800-1813363199@www.fullcoll.edu
SUMMARY:Juneteenth Holiday- Campus Closed
DESCRIPTION:
URL:https://www.fullcoll.edu/events/juneteenth-holiday-campus-closed/
LOCATION:Fullerton College
CATEGORIES:Academic Dates
END:VEVENT
END:VCALENDAR