BEGIN:VCALENDAR
VERSION:2.0
PRODID:-//Fullerton College - ECPv6.15.20//NONSGML v1.0//EN
CALSCALE:GREGORIAN
METHOD:PUBLISH
X-WR-CALNAME:Fullerton College
X-ORIGINAL-URL:https://www.fullcoll.edu
X-WR-CALDESC:Events for Fullerton College
REFRESH-INTERVAL;VALUE=DURATION:PT1H
X-Robots-Tag:noindex
X-PUBLISHED-TTL:PT1H
BEGIN:VTIMEZONE
TZID:America/Los_Angeles
BEGIN:DAYLIGHT
TZOFFSETFROM:-0800
TZOFFSETTO:-0700
TZNAME:PDT
DTSTART:20250309T100000
END:DAYLIGHT
BEGIN:STANDARD
TZOFFSETFROM:-0700
TZOFFSETTO:-0800
TZNAME:PST
DTSTART:20251102T090000
END:STANDARD
BEGIN:DAYLIGHT
TZOFFSETFROM:-0800
TZOFFSETTO:-0700
TZNAME:PDT
DTSTART:20260308T100000
END:DAYLIGHT
BEGIN:STANDARD
TZOFFSETFROM:-0700
TZOFFSETTO:-0800
TZNAME:PST
DTSTART:20261101T090000
END:STANDARD
BEGIN:DAYLIGHT
TZOFFSETFROM:-0800
TZOFFSETTO:-0700
TZNAME:PDT
DTSTART:20270314T100000
END:DAYLIGHT
BEGIN:STANDARD
TZOFFSETFROM:-0700
TZOFFSETTO:-0800
TZNAME:PST
DTSTART:20271107T090000
END:STANDARD
END:VTIMEZONE
BEGIN:VEVENT
DTSTART;TZID=America/Los_Angeles:20260511T143000
DTEND;TZID=America/Los_Angeles:20260511T153000
DTSTAMP:20260419T235614
CREATED:20260411T211641Z
LAST-MODIFIED:20260419T213116Z
UID:10007991-1778509800-1778513400@www.fullcoll.edu
SUMMARY:Fall 2027 Transfers: UC Transfer Admissions Guarantee [Webinar]
DESCRIPTION:If you intend to apply to the UC for fall 2027 AND wish to also apply for the UC Transfer Admissions Guarantee (TAG)\, then this workshop is for you!\nWe will be covering general information about: \n\nTAG requirements\nTAG matrix\nTAG Application Process\nCommon mistakes to avoid\nCommon requirements that will need to be completed by the end of summer 2026!\n\nTo RSVP\, register here!
URL:https://www.fullcoll.edu/events/fall-2027-transfers-uc-transfer-admissions-guarantee-webinar-5/
LOCATION:Online
CATEGORIES:Transfer Events
ATTACH;FMTTYPE=image/jpeg:/wp-content/uploads/2024/04/transfer_center.jpg
END:VEVENT
BEGIN:VEVENT
DTSTART;TZID=America/Los_Angeles:20260511T141500
DTEND;TZID=America/Los_Angeles:20260511T150000
DTSTAMP:20260419T235614
CREATED:20260228T170142Z
LAST-MODIFIED:20260419T210110Z
UID:10006918-1778508900-1778511600@www.fullcoll.edu
SUMMARY:Mindfulness Student Club Meeting
DESCRIPTION:
URL:https://www.fullcoll.edu/events/mindfulness-student-club-meeting-5/
LOCATION:Building 2400\, Room 103
CATEGORIES:Mindful Events
ATTACH;FMTTYPE=image/jpeg:/wp-content/uploads/2024/04/mindful.jpg
ORGANIZER;CN="ttrujillo":MAILTO:ttrujillo@fullcoll.edu
END:VEVENT
BEGIN:VEVENT
DTSTART;TZID=America/Los_Angeles:20260511T133000
DTEND;TZID=America/Los_Angeles:20260511T153000
DTSTAMP:20260419T235614
CREATED:20260123T162105Z
LAST-MODIFIED:20260123T162105Z
UID:10005982-1778506200-1778513400@www.fullcoll.edu
SUMMARY:Neuro Nest
DESCRIPTION:Neuro Nest is a supportive\, welcoming space for neurodivergent folks and allies to connect\, share\, and be themselves. All are welcome to join this community support group where differences are celebrated and every voice matters.
URL:https://www.fullcoll.edu/events/neuro-nest/2026-05-11/
LOCATION:Student Support Center Room 207
CATEGORIES:Student Health
ATTACH;FMTTYPE=image/png:/wp-content/uploads/2026/01/Neuro-Nest.png
END:VEVENT
BEGIN:VEVENT
DTSTART;TZID=America/Los_Angeles:20260511T120000
DTEND;TZID=America/Los_Angeles:20260511T123000
DTSTAMP:20260419T235614
CREATED:20260126T152726Z
LAST-MODIFIED:20260419T210109Z
UID:10006038-1778500800-1778502600@www.fullcoll.edu
SUMMARY:Mindful Mondays Drop-In Practice
DESCRIPTION:
URL:https://www.fullcoll.edu/events/mindful-mondays-drop-in-practice-14/
LOCATION:Zoom
CATEGORIES:Mindful Events
ATTACH;FMTTYPE=image/jpeg:/wp-content/uploads/2024/04/mindful.jpg
ORGANIZER;CN="ttrujillo":MAILTO:ttrujillo@fullcoll.edu
END:VEVENT
BEGIN:VEVENT
DTSTART;TZID=America/Los_Angeles:20260511T110000
DTEND;TZID=America/Los_Angeles:20260511T120000
DTSTAMP:20260419T235614
CREATED:20260203T114627Z
LAST-MODIFIED:20260419T171607Z
UID:10006206-1778497200-1778500800@www.fullcoll.edu
SUMMARY:Career Center: Interview 101 Webinar
DESCRIPTION:
URL:https://www.fullcoll.edu/events/career-center-interview-101-webinar-3/
LOCATION:This is a live webinar\, you will be emailed a Zoom link once you register.
CATEGORIES:Career Skills
ORGANIZER;CN="rkhan":MAILTO:rkhan@fullcoll.edu
END:VEVENT
BEGIN:VEVENT
DTSTART;TZID=America/Los_Angeles:20260510T170000
DTEND;TZID=America/Los_Angeles:20260510T183000
DTSTAMP:20260419T235614
CREATED:20260410T231736Z
LAST-MODIFIED:20260419T180148Z
UID:10007988-1778432400-1778437800@www.fullcoll.edu
SUMMARY:Grads to Be Presents: Lessons from the Dream Movement
DESCRIPTION:Lessons from the Dream Movement is an engaging workshop that invites students to explore the powerful history of the Dream Movement and the young women and queer activists who helped shape it. Through storytelling\, reflection\, and shared experiences\, participants will learn how this legacy connects to their own educational journey\, sense of purpose\, and future leadership. This session encourages students to see themselves as part of a larger story—one rooted in resilience\, advocacy\, and community—and empowers them to carry that spirit forward as they pursue their goals.
URL:https://www.fullcoll.edu/events/grads-to-be-presents-lessons-from-the-dream-movement-2/
LOCATION:Zoom
CATEGORIES:Cultural Events
END:VEVENT
BEGIN:VEVENT
DTSTART;TZID=America/Los_Angeles:20260510T110000
DTEND;TZID=America/Los_Angeles:20260510T123000
DTSTAMP:20260419T235614
CREATED:20260410T231735Z
LAST-MODIFIED:20260419T180148Z
UID:10007987-1778410800-1778416200@www.fullcoll.edu
SUMMARY:Grads to Be Presents: Lessons from the Dream Movement
DESCRIPTION:Lessons from the Dream Movement is an engaging workshop that invites students to explore the powerful history of the Dream Movement and the young women and queer activists who helped shape it. Through storytelling\, reflection\, and shared experiences\, participants will learn how this legacy connects to their own educational journey\, sense of purpose\, and future leadership. This session encourages students to see themselves as part of a larger story—one rooted in resilience\, advocacy\, and community—and empowers them to carry that spirit forward as they pursue their goals.
URL:https://www.fullcoll.edu/events/grads-to-be-presents-lessons-from-the-dream-movement/
LOCATION:Zoom
CATEGORIES:Cultural Events
END:VEVENT
BEGIN:VEVENT
DTSTART;TZID=America/Los_Angeles:20260508T163000
DTEND;TZID=America/Los_Angeles:20260508T200000
DTSTAMP:20260419T235614
CREATED:20260409T231721Z
LAST-MODIFIED:20260419T180147Z
UID:10007967-1778257800-1778270400@www.fullcoll.edu
SUMMARY:Grads to Be Presents: 2nd Annual Monarch Graduation
DESCRIPTION:Join us for our 2nd Annual Monarch Graduation to celebrate the achievements of our immigration impacted students in a special graduation ceremony! Be recognized with a sash or a cord\, enjoy delicious food\, photo ops\, and celebrate your success with us! \nMore details to come.
URL:https://www.fullcoll.edu/events/grads-to-be-presents-2nd-annual-monarch-graduation/
LOCATION:Fullerton College
CATEGORIES:Cultural Events
END:VEVENT
BEGIN:VEVENT
DTSTART;TZID=America/Los_Angeles:20260508T163000
DTEND;TZID=America/Los_Angeles:20260508T180000
DTSTAMP:20260419T235614
CREATED:20260409T231750Z
LAST-MODIFIED:20260419T180148Z
UID:10007968-1778257800-1778263200@www.fullcoll.edu
SUMMARY:Grad To Be Program Presents: Monarch Graduation
DESCRIPTION:We invite all immigration-impacted students completing their studies at Fullerton College and your loved ones to our Monarch Graduation\, where we will honor and celebrate your achievements with community\, joy\, and recognition. Business casual attire is encouraged. \nAll students\, regardless of race\, sex\, color\, ethnicity\, national origin\, or any other protected identity\, who are interested in G2B’s mission and focus\, are welcome and eligible to participate. \nTo receive location Register by \nMonday\, 4/27/26
URL:https://www.fullcoll.edu/events/grad-to-be-program-presents-monarch-graduation/
CATEGORIES:Cultural Events
END:VEVENT
BEGIN:VEVENT
DTSTART;TZID=America/Los_Angeles:20260507T193000
DTEND;TZID=America/Los_Angeles:20260507T213000
DTSTAMP:20260419T235614
CREATED:20260419T163107Z
LAST-MODIFIED:20260419T163107Z
UID:10008177-1778182200-1778189400@www.fullcoll.edu
SUMMARY:Jazz Combo Night
DESCRIPTION:Small group jazz gives each player more room for individual expression through improvisation – a key component in jazz music.  These ensembles barrow from every style of jazz from dixieland to the present.
URL:https://www.fullcoll.edu/events/jazz-combo-night-2/
LOCATION:Fullerton College
CATEGORIES:Fine Arts
END:VEVENT
BEGIN:VEVENT
DTSTART;TZID=America/Los_Angeles:20260507T150000
DTEND;TZID=America/Los_Angeles:20260507T160000
DTSTAMP:20260419T235614
CREATED:20260203T114627Z
LAST-MODIFIED:20260419T171607Z
UID:10006205-1778166000-1778169600@www.fullcoll.edu
SUMMARY:Career Center: Handshake 101 Job Search Webinar
DESCRIPTION:
URL:https://www.fullcoll.edu/events/career-center-handshake-101-job-search-webinar-6/
LOCATION:This is a live webinar\, you will be emailed a Zoom link once you register.
CATEGORIES:Career Skills
ORGANIZER;CN="rkhan":MAILTO:rkhan@fullcoll.edu
END:VEVENT
BEGIN:VEVENT
DTSTART;TZID=America/Los_Angeles:20260506T193000
DTEND;TZID=America/Los_Angeles:20260506T213000
DTSTAMP:20260419T235614
CREATED:20260419T163106Z
LAST-MODIFIED:20260419T163106Z
UID:10008176-1778095800-1778103000@www.fullcoll.edu
SUMMARY:Symphony
DESCRIPTION:The Fullerton College Symphony is a full orchestral ensemble comprised of Strings\, Winds\, Brass\, and Percussion. The orchestra is comprised of undergraduate music majors and non-music majors who perform at a high level.
URL:https://www.fullcoll.edu/events/symphony-3/
LOCATION:Fullerton College
CATEGORIES:Fine Arts
END:VEVENT
BEGIN:VEVENT
DTSTART;TZID=America/Los_Angeles:20260506T140000
DTEND;TZID=America/Los_Angeles:20260506T150000
DTSTAMP:20260419T235614
CREATED:20260406T210216Z
LAST-MODIFIED:20260419T213116Z
UID:10007903-1778076000-1778079600@www.fullcoll.edu
SUMMARY:Spring 2027 Transfers: Preparing to Apply to the Cal State [Webinar]
DESCRIPTION:If you are planning to transfer to the Cal State University for spring 2027\, your application journey begins now!\nThe Transfer Center offers a four-part Application Workshop Series designed to assist you through the year-long application process.\nStart your journey with our Part 1: Preparing to Apply to the Cal State. This webinar covers the following topics: \n\nCSU Minimum Transfer Requirements\nCompetitive standards for select campuses & programs​​\nAssociate Degree for Transfer (ADT) and its processes\nDocuments required to complete the Cal State Application\nHow to accurately complete sections of the application.​\nNext Steps & Deadlines​\n\nTo RSVP\, register here!
URL:https://www.fullcoll.edu/events/spring-2027-transfers-preparing-to-apply-to-the-cal-state-webinar-3/
CATEGORIES:Transfer Events
ATTACH;FMTTYPE=image/jpeg:/wp-content/uploads/2024/04/transfer_center.jpg
END:VEVENT
BEGIN:VEVENT
DTSTART;TZID=America/Los_Angeles:20260506T120000
DTEND;TZID=America/Los_Angeles:20260506T140000
DTSTAMP:20260419T235614
CREATED:20260406T224808Z
LAST-MODIFIED:20260419T180147Z
UID:10007904-1778068800-1778076000@www.fullcoll.edu
SUMMARY:Cadena Presents: Educational Activity at APIDA Heritage Month Celebration
DESCRIPTION:Visit the Cadena Cultural Center at the APIDA Heritage Month Celebration hosted by the APIDA Amplified Team. We will have a fun educational activity to learn more about APIDA Heritage Month and how you can celebrate. We will have snacks available for students!
URL:https://www.fullcoll.edu/events/cadena-presents-educational-activity-at-apida-heritage-month-celebration/
LOCATION:Fullerton College Quad\, 321 E. Chapman Avenue\, Fullerton\, CA\, 92834\, United States
CATEGORIES:Cultural Events
END:VEVENT
BEGIN:VEVENT
DTSTART;TZID=America/Los_Angeles:20260506T100000
DTEND;TZID=America/Los_Angeles:20260506T123000
DTSTAMP:20260419T235614
CREATED:20260406T210215Z
LAST-MODIFIED:20260419T213115Z
UID:10007902-1778061600-1778070600@www.fullcoll.edu
SUMMARY:Whittier College Tabling
DESCRIPTION:The representative from Whittier College will be tabling in front of the Transfer Center on May 6 from 10:00am to 12:30pm.\nFor more information\, call us at (714) 992-7086\, text us at (714) 710-8173\, or visit our center (Bldg. 200\, Rm 212).
URL:https://www.fullcoll.edu/events/whittier-college-tabling-4/
CATEGORIES:Transfer Events
ATTACH;FMTTYPE=image/jpeg:/wp-content/uploads/2024/04/transfer_center.jpg
END:VEVENT
BEGIN:VEVENT
DTSTART;TZID=America/Los_Angeles:20260505T193000
DTEND;TZID=America/Los_Angeles:20260505T213000
DTSTAMP:20260419T235614
CREATED:20260419T163106Z
LAST-MODIFIED:20260419T163106Z
UID:10008175-1778009400-1778016600@www.fullcoll.edu
SUMMARY:Synergy VJ and Lab Band
DESCRIPTION:The Alt. Jazz Lab Band are a high energy group performing contemporary music including latin\, rock\, fusion and pop. This ensemble performs on and off campus throughout the year.Synergy Vocal Jazz performs challenging repertoire at a variety of concerts on campus as well as festivals throughout Southern California.  Students in Synergy enjoy learning about and digging into the jazz tradition in a spirited approach to melody\, text\, harmony\, theory\, rhythm\, and improvisation. Each year\, the ensemble accepts up to 16 singers by audition\, they all sing on individual microphone\, and are accompanied by a student rhythm section.
URL:https://www.fullcoll.edu/events/synergy-vj-and-lab-band-3/
LOCATION:Fullerton College
CATEGORIES:Fine Arts
END:VEVENT
BEGIN:VEVENT
DTSTART;TZID=America/Los_Angeles:20260505T150000
DTEND;TZID=America/Los_Angeles:20260505T170000
DTSTAMP:20260419T235614
CREATED:20260416T222713Z
LAST-MODIFIED:20260416T222713Z
UID:10008104-1777993200-1778000400@www.fullcoll.edu
SUMMARY:Respawn: The eSports & law Expo
DESCRIPTION:Join us for an engaging journey into the intersection of law and video games involving creation & streaming. Plus\, discover how leagues are formed and operated. Then\, we will conclude with an exciting Marvel Rivals tournament!
URL:https://www.fullcoll.edu/events/respawn-the-esports-law-expo/
LOCATION:500 Building\, Room 510\, 321 E. Chapman Ave.\, Bldg. 300\, Fullerton\, CA\, 92832\, United States
CATEGORIES:Campus Events
ATTACH;FMTTYPE=image/png:/wp-content/uploads/2026/04/5.5.26-eSports-Law-Expo-Flyer.png
ORGANIZER;CN="Paralegal Studies":MAILTO:mmoore1@fullcoll.edu
END:VEVENT
BEGIN:VEVENT
DTSTART;TZID=America/Los_Angeles:20260504T133000
DTEND;TZID=America/Los_Angeles:20260504T153000
DTSTAMP:20260419T235614
CREATED:20260123T162105Z
LAST-MODIFIED:20260123T162105Z
UID:10005981-1777901400-1777908600@www.fullcoll.edu
SUMMARY:Neuro Nest
DESCRIPTION:Neuro Nest is a supportive\, welcoming space for neurodivergent folks and allies to connect\, share\, and be themselves. All are welcome to join this community support group where differences are celebrated and every voice matters.
URL:https://www.fullcoll.edu/events/neuro-nest/2026-05-04/
LOCATION:Student Support Center Room 207
CATEGORIES:Student Health
ATTACH;FMTTYPE=image/png:/wp-content/uploads/2026/01/Neuro-Nest.png
END:VEVENT
BEGIN:VEVENT
DTSTART;TZID=America/Los_Angeles:20260503T133000
DTEND;TZID=America/Los_Angeles:20260503T153000
DTSTAMP:20260419T235614
CREATED:20260419T163105Z
LAST-MODIFIED:20260419T163105Z
UID:10008174-1777815000-1777822200@www.fullcoll.edu
SUMMARY:Applied Voice Recital
DESCRIPTION:Students of the Solo Voice program perform pieces learned throughout each semester at an annual recital.
URL:https://www.fullcoll.edu/events/applied-voice-recital-4/
LOCATION:Fullerton College
CATEGORIES:Fine Arts
END:VEVENT
BEGIN:VEVENT
DTSTART;VALUE=DATE:20260503
DTEND;VALUE=DATE:20260504
DTSTAMP:20260419T235614
CREATED:20260106T232217Z
LAST-MODIFIED:20260106T232217Z
UID:10005833-1777766400-1777852799@www.fullcoll.edu
SUMMARY:Last Day to Withdraw
DESCRIPTION:
URL:https://www.fullcoll.edu/events/last-day-to-withdraw/
LOCATION:Fullerton College
CATEGORIES:Academic Dates
END:VEVENT
BEGIN:VEVENT
DTSTART;TZID=America/Los_Angeles:20260502T193000
DTEND;TZID=America/Los_Angeles:20260502T213000
DTSTAMP:20260419T235614
CREATED:20260419T163105Z
LAST-MODIFIED:20260419T163105Z
UID:10008173-1777750200-1777757400@www.fullcoll.edu
SUMMARY:Faculty Dance Concert
DESCRIPTION:Our mission is to produce concert dance that introduces and promotes the diverse talents of our students here at Fullerton College.  It is an honor to showcase the talents of our faculty choreographers\, guest artists and student dancers.
URL:https://www.fullcoll.edu/events/faculty-dance-concert-8/
LOCATION:Fullerton College
CATEGORIES:Fine Arts
END:VEVENT
BEGIN:VEVENT
DTSTART;TZID=America/Los_Angeles:20260501T193000
DTEND;TZID=America/Los_Angeles:20260501T213000
DTSTAMP:20260419T235614
CREATED:20260419T163104Z
LAST-MODIFIED:20260419T163104Z
UID:10008172-1777663800-1777671000@www.fullcoll.edu
SUMMARY:Faculty Dance Concert
DESCRIPTION:Our mission is to produce concert dance that introduces and promotes the diverse talents of our students here at Fullerton College.  It is an honor to showcase the talents of our faculty choreographers\, guest artists and student dancers.
URL:https://www.fullcoll.edu/events/faculty-dance-concert-7/
LOCATION:Fullerton College
CATEGORIES:Fine Arts
END:VEVENT
BEGIN:VEVENT
DTSTART;TZID=America/Los_Angeles:20260501T193000
DTEND;TZID=America/Los_Angeles:20260501T213000
DTSTAMP:20260419T235614
CREATED:20260408T154956Z
LAST-MODIFIED:20260408T154956Z
UID:10007926-1777663800-1777671000@www.fullcoll.edu
SUMMARY:Fullerton College Dance Concert
DESCRIPTION:The Fullerton College Dance Department proudly presents its bi-annual Dance Concert\, an inspiring showcase of original choreography and dynamic performance. Featuring a diverse range of styles—from contemporary and modern to hip-hop and jazz—this production highlights the artistry\, creativity\, and technical excellence of Fullerton College’s talented student dancers and faculty choreographers. \nEach concert offers a unique and engaging experience\, bringing together innovative works that reflect both emerging voices and seasoned perspectives within the dance community. This highly anticipated event celebrates collaboration\, storytelling\, and the transformative power of movement\, making it a must-see performance for audiences of all backgrounds.
URL:https://www.fullcoll.edu/events/fullerton-college-dance-concert/
LOCATION:Campus Theatre
CATEGORIES:Fine Arts
ATTACH;FMTTYPE=image/jpeg:/wp-content/uploads/2026/04/fc-spring-2026-dance-postcard-1-2.jpg
END:VEVENT
BEGIN:VEVENT
DTSTART;TZID=America/Los_Angeles:20260501T170000
DTEND;TZID=America/Los_Angeles:20260501T200000
DTSTAMP:20260419T235614
CREATED:20260417T175620Z
LAST-MODIFIED:20260417T175620Z
UID:10008106-1777654800-1777665600@www.fullcoll.edu
SUMMARY:Students of Distinction Awards Ceremony 2026
DESCRIPTION:Student Life and Leadership\, in collaboration with Associated Students\, proudly presents the 69th Annual Students of Distinction Awards Ceremony. This special event honors twenty exceptional Fullerton College students who exemplify outstanding academic achievement\, leadership\, and service to the campus community. \nDuring the ceremony\, award recipients will be formally recognized for their accomplishments\, with select students receiving the prestigious Distinguished Student of the Year honor and commemorative plaques. The event will feature live musical entertainment by the Fullerton College Jazz Band. \nRefreshments\, including food\, snacks\, and beverages\, will be provided for award recipients\, their guests\, presenters\, and invited attendees. Join us in celebrating the “best of the best” students at Fullerton College.
URL:https://www.fullcoll.edu/events/students-of-distinction-awards-ceremony-2026/2026-05-01/2/
LOCATION:Fullerton College
CATEGORIES:Campus Events
END:VEVENT
BEGIN:VEVENT
DTSTART;TZID=America/Los_Angeles:20260501T120000
DTEND;TZID=America/Los_Angeles:20260501T140000
DTSTAMP:20260419T235614
CREATED:20260413T160813Z
LAST-MODIFIED:20260413T160813Z
UID:10007990-1777636800-1777644000@www.fullcoll.edu
SUMMARY:Law Day Durable Skills Lunch and Apply
DESCRIPTION:Join Fullerton College Paralegal Studies students\, faculty\, alumni\, and other guests for a celebration of Law Day.  We will host a two-part event dedicated to critical communication skills\, email etiquette\, ethics\, and more. Here is the breakdown of both events (hosted via HyFlex to offer both Zoom and in-person options): \n\nFriday\, 5/1/26 12 – 2 p.m. Lunchtime Workshop:\n\nPractice with scenarios on communication skills (written and verbal) + ethical considerations\nActive listening scenarios\nEmail etiquette scenarios\nLunch and beverages provided for in-person attendees!\n\n\n\nTo join us in celebrating Law Day\, grab a free meal\, and get some cool Law Day swag (if attending in-person)\, please complete the sign-up form via the QR code in the flyer embedded or attached below. You can also use the sign-up link directly if you cannot access the QR code. \nFor Zoom attendees: you must still complete the required form so we can track attendance\, but you can access the Zoom link from this page. Just copy it to your calendar prior to the event to keep it handy.
URL:https://www.fullcoll.edu/events/law-day-durable-skills-lunch-and-apply/
LOCATION:Fullerton College
CATEGORIES:Career Skills
ATTACH;FMTTYPE=image/jpeg:/wp-content/uploads/2026/04/2026-Law-Day-Two-Part-Event-Flyer-1.jpg
ORGANIZER;CN="Paralegal Studies":MAILTO:mmoore1@fullcoll.edu
END:VEVENT
BEGIN:VEVENT
DTSTART;TZID=America/Los_Angeles:20260501T080000
DTEND;TZID=America/Los_Angeles:20260501T170000
DTSTAMP:20260419T235614
CREATED:20260417T175620Z
LAST-MODIFIED:20260417T175620Z
UID:10008105-1777622400-1777654800@www.fullcoll.edu
SUMMARY:Students of Distinction Awards Ceremony 2026
DESCRIPTION:Student Life and Leadership\, in collaboration with Associated Students\, proudly presents the 69th Annual Students of Distinction Awards Ceremony. This special event honors twenty exceptional Fullerton College students who exemplify outstanding academic achievement\, leadership\, and service to the campus community. \nDuring the ceremony\, award recipients will be formally recognized for their accomplishments\, with select students receiving the prestigious Distinguished Student of the Year honor and commemorative plaques. The event will feature live musical entertainment by the Fullerton College Jazz Band. \nRefreshments\, including food\, snacks\, and beverages\, will be provided for award recipients\, their guests\, presenters\, and invited attendees. Join us in celebrating the “best of the best” students at Fullerton College.
URL:https://www.fullcoll.edu/events/students-of-distinction-awards-ceremony-2026/2026-05-01/1/
LOCATION:Fullerton College
CATEGORIES:Campus Events
END:VEVENT
BEGIN:VEVENT
DTSTART;VALUE=DATE:20260501
DTEND;VALUE=DATE:20260502
DTSTAMP:20260419T235614
CREATED:20260401T203202Z
LAST-MODIFIED:20260419T213115Z
UID:10007792-1777593600-1777679999@www.fullcoll.edu
SUMMARY:Fall 2026 Transfers: Cal State Intent to Register Deadline!
DESCRIPTION:Deadline for transfer students offered admissions for fall 2026 to submit Intent to Register (SIR). \nFor more information or assistance with your Cal State Intent to Register\, visit or contact the FC Transfer Center.
URL:https://www.fullcoll.edu/events/fall-2026-transfers-cal-state-intent-to-register-deadline/
CATEGORIES:Transfer Events
ATTACH;FMTTYPE=image/jpeg:/wp-content/uploads/2024/04/transfer_center.jpg
END:VEVENT
BEGIN:VEVENT
DTSTART;TZID=America/Los_Angeles:20260429T150000
DTEND;TZID=America/Los_Angeles:20260429T160000
DTSTAMP:20260419T235614
CREATED:20260330T220222Z
LAST-MODIFIED:20260419T180146Z
UID:10007744-1777474800-1777478400@www.fullcoll.edu
SUMMARY:Grad To Be Program Presents: CARECEN Updates in Immigration Law
DESCRIPTION:Join us to learn about recent updates in immigration law.
URL:https://www.fullcoll.edu/events/grad-to-be-program-presents-carecen-updates-in-immigration-law/
LOCATION:Zoom
CATEGORIES:Cultural Events
END:VEVENT
BEGIN:VEVENT
DTSTART;TZID=America/Los_Angeles:20260429T140000
DTEND;TZID=America/Los_Angeles:20260429T150000
DTSTAMP:20260419T235614
CREATED:20260330T201653Z
LAST-MODIFIED:20260419T213115Z
UID:10007738-1777471200-1777474800@www.fullcoll.edu
SUMMARY:Fall 2027 Transfers: UC Transfer Admissions Guarantee [Webinar]
DESCRIPTION:If you intend to apply to the UC for fall 2027 AND wish to also apply for the UC Transfer Admissions Guarantee (TAG)\, then this workshop is for you!\nWe will be covering general information about: \n\nTAG requirements\nTAG matrix\nTAG Application Process\nCommon mistakes to avoid\nCommon requirements that will need to be completed by the end of summer 2026!\n\nTo RSVP\, register here!
URL:https://www.fullcoll.edu/events/fall-2027-transfers-uc-transfer-admissions-guarantee-webinar-4/
LOCATION:Online
CATEGORIES:Transfer Events
ATTACH;FMTTYPE=image/jpeg:/wp-content/uploads/2024/04/transfer_center.jpg
END:VEVENT
BEGIN:VEVENT
DTSTART;TZID=America/Los_Angeles:20260429T090000
DTEND;TZID=America/Los_Angeles:20260429T103000
DTSTAMP:20260419T235614
CREATED:20260330T220221Z
LAST-MODIFIED:20260419T180146Z
UID:10007743-1777453200-1777458600@www.fullcoll.edu
SUMMARY:LGBTQIA2S+ Presents: Loud and Proud: Queer Craft & Chill
DESCRIPTION:Take a break and join us for a relaxing evening of crafting\, conversation\, and community. Whether you want to make something creative\, unwind from the semester\, or just spend time in community\, this space is all about slowing down and connecting.
URL:https://www.fullcoll.edu/events/lgbtqia2s-presents-loud-and-proud-queer-craft-chill/
LOCATION:Student Support Center Room 205
CATEGORIES:Cultural Events
END:VEVENT
END:VCALENDAR