BEGIN:VCALENDAR
VERSION:2.0
PRODID:-//Fullerton College - ECPv6.15.20//NONSGML v1.0//EN
CALSCALE:GREGORIAN
METHOD:PUBLISH
X-WR-CALNAME:Fullerton College
X-ORIGINAL-URL:https://www.fullcoll.edu
X-WR-CALDESC:Events for Fullerton College
REFRESH-INTERVAL;VALUE=DURATION:PT1H
X-Robots-Tag:noindex
X-PUBLISHED-TTL:PT1H
BEGIN:VTIMEZONE
TZID:America/Los_Angeles
BEGIN:DAYLIGHT
TZOFFSETFROM:-0800
TZOFFSETTO:-0700
TZNAME:PDT
DTSTART:20250309T100000
END:DAYLIGHT
BEGIN:STANDARD
TZOFFSETFROM:-0700
TZOFFSETTO:-0800
TZNAME:PST
DTSTART:20251102T090000
END:STANDARD
BEGIN:DAYLIGHT
TZOFFSETFROM:-0800
TZOFFSETTO:-0700
TZNAME:PDT
DTSTART:20260308T100000
END:DAYLIGHT
BEGIN:STANDARD
TZOFFSETFROM:-0700
TZOFFSETTO:-0800
TZNAME:PST
DTSTART:20261101T090000
END:STANDARD
BEGIN:DAYLIGHT
TZOFFSETFROM:-0800
TZOFFSETTO:-0700
TZNAME:PDT
DTSTART:20270314T100000
END:DAYLIGHT
BEGIN:STANDARD
TZOFFSETFROM:-0700
TZOFFSETTO:-0800
TZNAME:PST
DTSTART:20271107T090000
END:STANDARD
END:VTIMEZONE
BEGIN:VEVENT
DTSTART;VALUE=DATE:20261111
DTEND;VALUE=DATE:20261112
DTSTAMP:20260419T210744
CREATED:20260417T192955Z
LAST-MODIFIED:20260417T192955Z
UID:10008128-1794355200-1794441599@www.fullcoll.edu
SUMMARY:Veterans' Day Holiday- Campus Closed
DESCRIPTION:
URL:https://www.fullcoll.edu/events/veterans-day-holiday-campus-closed/
LOCATION:Fullerton College
CATEGORIES:Academic Dates
END:VEVENT
BEGIN:VEVENT
DTSTART;VALUE=DATE:20261113
DTEND;VALUE=DATE:20261114
DTSTAMP:20260419T210744
CREATED:20260417T213559Z
LAST-MODIFIED:20260417T213559Z
UID:10008153-1794528000-1794614399@www.fullcoll.edu
SUMMARY:Last Day to Increase/Decrease Variable Unit Classes
DESCRIPTION:
URL:https://www.fullcoll.edu/events/last-day-to-increase-decrease-variable-unit-classes/
LOCATION:Fullerton College
CATEGORIES:Academic Dates
END:VEVENT
BEGIN:VEVENT
DTSTART;VALUE=DATE:20261115
DTEND;VALUE=DATE:20261116
DTSTAMP:20260419T210744
CREATED:20260417T213653Z
LAST-MODIFIED:20260417T213706Z
UID:10008154-1794700800-1794787199@www.fullcoll.edu
SUMMARY:Last Day to Withdraw From Classes
DESCRIPTION:
URL:https://www.fullcoll.edu/events/last-day-to-withdraw-from-classses/
LOCATION:Fullerton College
CATEGORIES:Academic Dates
END:VEVENT
BEGIN:VEVENT
DTSTART;VALUE=DATE:20261126
DTEND;VALUE=DATE:20261127
DTSTAMP:20260419T210744
CREATED:20260417T193043Z
LAST-MODIFIED:20260417T193043Z
UID:10008129-1795651200-1795737599@www.fullcoll.edu
SUMMARY:Thanksgiving Holiday- Campus Closed
DESCRIPTION:
URL:https://www.fullcoll.edu/events/thanksgiving-holiday-campus-closed/
LOCATION:Fullerton College
CATEGORIES:Academic Dates
END:VEVENT
BEGIN:VEVENT
DTSTART;VALUE=DATE:20261127
DTEND;VALUE=DATE:20261128
DTSTAMP:20260419T210744
CREATED:20260417T193116Z
LAST-MODIFIED:20260417T193116Z
UID:10008130-1795737600-1795823999@www.fullcoll.edu
SUMMARY:Thanksgiving Holiday- Campus Closed
DESCRIPTION:
URL:https://www.fullcoll.edu/events/thanksgiving-holiday-campus-closed-2/
LOCATION:Fullerton College
CATEGORIES:Academic Dates
END:VEVENT
END:VCALENDAR