BEGIN:VCALENDAR
VERSION:2.0
PRODID:-//Fullerton College - ECPv6.15.20//NONSGML v1.0//EN
CALSCALE:GREGORIAN
METHOD:PUBLISH
X-ORIGINAL-URL:https://www.fullcoll.edu
X-WR-CALDESC:Events for Fullerton College
REFRESH-INTERVAL;VALUE=DURATION:PT1H
X-Robots-Tag:noindex
X-PUBLISHED-TTL:PT1H
BEGIN:VTIMEZONE
TZID:America/Los_Angeles
BEGIN:DAYLIGHT
TZOFFSETFROM:-0800
TZOFFSETTO:-0700
TZNAME:PDT
DTSTART:20250309T100000
END:DAYLIGHT
BEGIN:STANDARD
TZOFFSETFROM:-0700
TZOFFSETTO:-0800
TZNAME:PST
DTSTART:20251102T090000
END:STANDARD
BEGIN:DAYLIGHT
TZOFFSETFROM:-0800
TZOFFSETTO:-0700
TZNAME:PDT
DTSTART:20260308T100000
END:DAYLIGHT
BEGIN:STANDARD
TZOFFSETFROM:-0700
TZOFFSETTO:-0800
TZNAME:PST
DTSTART:20261101T090000
END:STANDARD
BEGIN:DAYLIGHT
TZOFFSETFROM:-0800
TZOFFSETTO:-0700
TZNAME:PDT
DTSTART:20270314T100000
END:DAYLIGHT
BEGIN:STANDARD
TZOFFSETFROM:-0700
TZOFFSETTO:-0800
TZNAME:PST
DTSTART:20271107T090000
END:STANDARD
END:VTIMEZONE
BEGIN:VEVENT
DTSTART;TZID=America/Los_Angeles:20260429T080000
DTEND;TZID=America/Los_Angeles:20260429T170000
DTSTAMP:20260420T165726
CREATED:20260420T184558Z
LAST-MODIFIED:20260420T184558Z
UID:10008203-1777449600-1777482000@www.fullcoll.edu
SUMMARY:FC MOC BARBERSHOP TALKS
DESCRIPTION:Barbershop Talks at Fullerton College are engaging\, informal discussions designed to create a safe and supportive space for men of color to share their experiences and perspectives. These sessions blend community engagement with personal development\, allowing participants to address topics related to mental health\, identity\, and academic success. Led by facilitators who understand the unique challenges faced by men of color\, Barbershop Talks encourage open dialogue\, foster connection\, and promote a sense of belonging among students. This initiative not only strengthens community ties but also empowers participants to navigate their educational journeys with confidence and resilience. Open to All! Free haircuts provided.
URL:https://www.fullcoll.edu/event/fc-moc-barbershop-talks/2026-04-29/1/
LOCATION:Fullerton College
CATEGORIES:Campus Events,Cultural Events
ATTACH;FMTTYPE=image/png:/wp-content/uploads/2026/04/BARBERSHOP-TALKS-1.png
END:VEVENT
BEGIN:VEVENT
DTSTART;TZID=America/Los_Angeles:20260429T110000
DTEND;TZID=America/Los_Angeles:20260429T150000
DTSTAMP:20260420T165726
CREATED:20260420T184558Z
LAST-MODIFIED:20260420T184558Z
UID:10008204-1777460400-1777474800@www.fullcoll.edu
SUMMARY:FC MOC BARBERSHOP TALKS
DESCRIPTION:Barbershop Talks at Fullerton College are engaging\, informal discussions designed to create a safe and supportive space for men of color to share their experiences and perspectives. These sessions blend community engagement with personal development\, allowing participants to address topics related to mental health\, identity\, and academic success. Led by facilitators who understand the unique challenges faced by men of color\, Barbershop Talks encourage open dialogue\, foster connection\, and promote a sense of belonging among students. This initiative not only strengthens community ties but also empowers participants to navigate their educational journeys with confidence and resilience. Open to All! Free haircuts provided.
URL:https://www.fullcoll.edu/event/fc-moc-barbershop-talks/2026-04-29/2/
LOCATION:Fullerton College
CATEGORIES:Campus Events,Cultural Events
ATTACH;FMTTYPE=image/png:/wp-content/uploads/2026/04/BARBERSHOP-TALKS-1.png
END:VEVENT
BEGIN:VEVENT
DTSTART;TZID=America/Los_Angeles:20260513T110000
DTEND;TZID=America/Los_Angeles:20260513T150000
DTSTAMP:20260420T165726
CREATED:20260420T184558Z
LAST-MODIFIED:20260420T184558Z
UID:10008205-1778670000-1778684400@www.fullcoll.edu
SUMMARY:FC MOC BARBERSHOP TALKS
DESCRIPTION:Barbershop Talks at Fullerton College are engaging\, informal discussions designed to create a safe and supportive space for men of color to share their experiences and perspectives. These sessions blend community engagement with personal development\, allowing participants to address topics related to mental health\, identity\, and academic success. Led by facilitators who understand the unique challenges faced by men of color\, Barbershop Talks encourage open dialogue\, foster connection\, and promote a sense of belonging among students. This initiative not only strengthens community ties but also empowers participants to navigate their educational journeys with confidence and resilience. Open to All! Free haircuts provided.
URL:https://www.fullcoll.edu/event/fc-moc-barbershop-talks/2026-05-13/
LOCATION:Fullerton College
CATEGORIES:Campus Events,Cultural Events
ATTACH;FMTTYPE=image/png:/wp-content/uploads/2026/04/BARBERSHOP-TALKS-1.png
END:VEVENT
END:VCALENDAR