BEGIN:VCALENDAR
VERSION:2.0
PRODID:-//Fullerton College - ECPv6.15.20//NONSGML v1.0//EN
CALSCALE:GREGORIAN
METHOD:PUBLISH
X-WR-CALNAME:Fullerton College
X-ORIGINAL-URL:https://www.fullcoll.edu
X-WR-CALDESC:Events for Fullerton College
REFRESH-INTERVAL;VALUE=DURATION:PT1H
X-Robots-Tag:noindex
X-PUBLISHED-TTL:PT1H
BEGIN:VTIMEZONE
TZID:America/Los_Angeles
BEGIN:DAYLIGHT
TZOFFSETFROM:-0800
TZOFFSETTO:-0700
TZNAME:PDT
DTSTART:20250309T100000
END:DAYLIGHT
BEGIN:STANDARD
TZOFFSETFROM:-0700
TZOFFSETTO:-0800
TZNAME:PST
DTSTART:20251102T090000
END:STANDARD
BEGIN:DAYLIGHT
TZOFFSETFROM:-0800
TZOFFSETTO:-0700
TZNAME:PDT
DTSTART:20260308T100000
END:DAYLIGHT
BEGIN:STANDARD
TZOFFSETFROM:-0700
TZOFFSETTO:-0800
TZNAME:PST
DTSTART:20261101T090000
END:STANDARD
BEGIN:DAYLIGHT
TZOFFSETFROM:-0800
TZOFFSETTO:-0700
TZNAME:PDT
DTSTART:20270314T100000
END:DAYLIGHT
BEGIN:STANDARD
TZOFFSETFROM:-0700
TZOFFSETTO:-0800
TZNAME:PST
DTSTART:20271107T090000
END:STANDARD
END:VTIMEZONE
BEGIN:VEVENT
DTSTART;TZID=America/Los_Angeles:20260305T110000
DTEND;TZID=America/Los_Angeles:20260305T130000
DTSTAMP:20260419T141402
CREATED:20260228T090117Z
LAST-MODIFIED:20260305T213143Z
UID:10006880-1772708400-1772715600@www.fullcoll.edu
SUMMARY:LGBTQIA2S+ Presents: Adulting 101: Queers in Careers Panel
DESCRIPTION:In honor of Major Discovery Day\, we are bringing together seven queers in seven different careers to discuss their college degrees\, how they chose a major\, and how they found their ways to their current careers. We will be joined by bookstore owner Ren Dean (they/them)\, video programming specialist Aya Lehman (she/her)\, registered nurse Jenny Loi (she/her)\, writer\, healer\, and Professor Maribel Martinez (no pronouns/use name instead)\, Professor Robert Marx (they/them)\, licensed therapist Traci Medeiros (she/they)\, and animator AJ Shenefelt (they/them)! Join us online via Zoom or in-person to gather some queer life advice! \n \nHybrid Location\nBldg. SSC\, Rm. 201\nMeeting ID: 88002617217\, Passcode 537315\n 
URL:https://www.fullcoll.edu/events/lgbtqia2s-presents-adulting-101-queers-in-careers-panel/
LOCATION:Student Support Center Room 201\, LGBTQIA2S+ Lounge
CATEGORIES:Cultural Events
END:VEVENT
END:VCALENDAR